BEGIN:VCALENDAR
VERSION:2.0
PRODID:-//ChamberMaster//Event Calendar 2.0//EN
METHOD:PUBLISH
X-PUBLISHED-TTL:P3D
REFRESH-INTERVAL:P3D
CALSCALE:GREGORIAN
BEGIN:VEVENT
DTSTART:20190425T151500Z
DTEND:20190425T164500Z
X-MICROSOFT-CDO-ALLDAYEVENT:FALSE
SUMMARY:BE YOUR OWN BOSS – How to Find a Franchise
DESCRIPTION:Presented by: Scott Majeski\, Franchise Consultant\, FranNet\n\nHave you ever wondering what it would be like to be your own boss? Franchising is one of the leading paths to business ownership. This workshop will investigate what types of opportunities are available in this unique industry. Learn the ins and outs of buying a franchise and how to choose the one that is right for you.\n\n          Scott Majeski is a Franchise Consultant with FranNet which locates franchises for sale in the Chicago area that fit the specific needs of individuals with an entrepreneurial spirit looking to open their own business. Scott has a MS from Illinois Institute of Technology and a BA from Coe College.\n\nRegistration Required\; Call 847-295-5626
X-ALT-DESC;FMTTYPE=text/html:Presented by:&nbsp\;<span style="font-family:tahoma\,sans-serif"><span style="font-size:12.0pt">Scott Majeski\, Franchise Consultant\, FranNet</span><br />\nHave you ever wondering what it would be like to be your own boss? Franchising is one of the leading paths to business ownership. This workshop will investigate what types of opportunities are available in this unique industry. Learn the ins and outs of buying a franchise and how to choose the one that is right for you.</span><br />\n<span style="font-family:tahoma\,sans-serif">&nbsp\;&nbsp\;&nbsp\;&nbsp\;&nbsp\;&nbsp\;&nbsp\;&nbsp\;&nbsp\; Scott Majeski is a Franchise Consultant with FranNet which locates franchises for sale in the Chicago area that fit the specific needs of individuals with an entrepreneurial spirit looking to open their own business. Scott has a MS from Illinois Institute of Technology and a BA from Coe College.</span><br />\n<strong><span style="font-family:tahoma\,sans-serif"><span style="font-size:12.0pt">Registration Required\; Call 847-295-5626</span></span></strong><br />\n&nbsp\;
LOCATION:Career Resource Center Grove Cultural Campus 40 E. Old Mill Road Lake Forest\, IL 60045
UID:e.1126.17671
SEQUENCE:3
DTSTAMP:20260424T085346Z
URL:https://business.lflbchamber.com/events/details/be-your-own-boss-how-to-find-a-franchise-04-25-2019-17671
END:VEVENT

END:VCALENDAR
