BEGIN:VCALENDAR
VERSION:2.0
PRODID:-//ChamberMaster//Event Calendar 2.0//EN
METHOD:PUBLISH
X-PUBLISHED-TTL:P3D
REFRESH-INTERVAL:P3D
CALSCALE:GREGORIAN
BEGIN:VEVENT
DTSTART;VALUE=DATE:20190501
DTEND;VALUE=DATE:20190601
TRANSP:TRANSPARENT
X-MICROSOFT-CDO-ALLDAYEVENT:TRUE
SUMMARY:Bedside Manor Ltd May Sale!
DESCRIPTION:New Linen Looks: Up To 25% Off\n\n\n\nBedside Manor Ltd's Annual Linen Sale is going on the entire month of May. Sheets\, shams\, duvets\, down\, coverlets\, and towels\; it's all here for you. Even better\, it's all on sale at 15-25% off\, all month long.\n\n\n\nShop at all three of our locations or online at www.shopbedside.com
X-ALT-DESC;FMTTYPE=text/html:<br />\n<u><strong>New Linen Looks: Up To 25% Off</strong></u><br />\n<br />\nBedside Manor Ltd&#39\;s Annual Linen Sale is going on the entire month of May. Sheets\, shams\, duvets\, down\, coverlets\, and towels\; it&#39\;s all here for you. Even better\, it&#39\;s all on sale at 15-25% off\, all month long.<br />\n<br />\nShop at all three of our locations or online at www.shopbedside.com
LOCATION:Bedside Manor Ltd 192 E. Westminster Lake Forest\, IL
UID:e.1126.17823
SEQUENCE:3
DTSTAMP:20260424T072502Z
URL:https://business.lflbchamber.com/events/details/bedside-manor-ltd-may-sale-17823
END:VEVENT

END:VCALENDAR
