BEGIN:VCALENDAR
VERSION:2.0
PRODID:-//ChamberMaster//Event Calendar 2.0//EN
METHOD:PUBLISH
X-PUBLISHED-TTL:P3D
REFRESH-INTERVAL:P3D
CALSCALE:GREGORIAN
BEGIN:VEVENT
DTSTART:20200304T000000Z
DTEND:20200304T020000Z
X-MICROSOFT-CDO-ALLDAYEVENT:FALSE
SUMMARY:Best Selling Author Peter Heller at North Shore Distillery
DESCRIPTION:Join best-selling author Peter Heller at the North Shore Distillery to celebrate the paperback release of his newest novel.\n\nTHE RIVER\n\nVintage  $16.00  Releases March 3\, 2020\n\nTuesday\, March 3rd\, at 6:00 PM\n\nat North Shore Distillery\n\n13990 Rockland Road\n\nGreen Oaks\, IL 60048\n\n$30 for individual (includes 1 signature cocktail and 1 book)\n\n$45 for couple (includes 2 signature cocktails and 1 book)\n\nReservations required. Call 847-234-4420\n\nFrom the best-selling author of The Dog Stars\, the story of two college students on a wilderness canoe trip--a gripping tale of a friendship tested by fire\, white water\, and violence. Wynn and Jack have been best friends since freshman orientation\, bonded by their shared love of mountains\, books\, and fishing. Wynn is a gentle giant\, a Vermont kid never happier than when his feet are in the water. Jack is more rugged\, raised on a ranch in Colorado where sleeping under the stars and cooking on a fire came as naturally to him as breathing. When they decide to canoe the Maskwa River in northern Canada\, they anticipate long days of leisurely paddling and picking blueberries\, and nights of stargazing and reading paperback Westerns. But a wildfire making its way across the forest adds unexpected urgency to the journey. When they hear a man and woman arguing on the fog-shrouded riverbank and decide to warn them about the fire\, their search for the pair turns up nothing and no one. But: The next day a man appears on the river\, paddling alone. Is this the man they heard? And\, if he is\, where is the woman? From this charged beginning\, master storyteller Peter Heller unspools a headlong\, heart-pounding story of desperate wilderness survival.\n\nPETER HELLER is the national bestselling author of Celine\, The Painter\, and The Dog Stars. The Painter was a finalist for the Los Angeles Times Book Prize and won the prestigious Reading the West Book Award\, shared in the past by Western writers such as Cormac McCarthy and Terry Tempest Williams\, and The Dog Stars\, which was published to critical acclaim and lauded as a breakout bestseller\, has been published in twenty-two languages to date. Heller is also the author of four nonfiction books\, including Kook: What Surfing Taught Me About Love\, Life\, and Catching the Perfect Wave\, which was awarded the National Outdoor Book Award for Literature. He holds an MFA from the Iowa Writers' Workshop in poetry and fiction and lives in Denver\, Colorado.
X-ALT-DESC;FMTTYPE=text/html:<p><strong>Join best-selling author&nbsp\;Peter Heller at the North Shore Distillery to celebrate the paperback release&nbsp\;of his newest novel.</strong></p>\n\n<div><strong>THE RIVER</strong></div>\n\n<p><strong>Vintage&nbsp\; $16.00&nbsp\; Releases&nbsp\;March 3\, 2020</strong></p>\n\n<div><strong>Tuesday\, March 3rd\, at 6:00 PM</strong></div>\n\n<div><strong>at North Shore Distillery</strong></div>\n\n<div><strong>13990 Rockland Road</strong></div>\n\n<p><strong>Green Oaks\, IL 60048</strong></p>\n\n<p><strong>$30 for individual&nbsp\;(includes 1 signature cocktail and 1 book)</strong></p>\n\n<p><strong>$45 for couple (includes 2 signature cocktails and 1 book)</strong></p>\n\n<p><strong>Reservations required. Call 847-234-4420</strong></p>\n\n<p><strong>From the best-selling author of&nbsp\;<em>The Dog Stars\,&nbsp\;</em>the story of two college students on a wilderness canoe trip--a gripping tale of a friendship tested by fire\, white water\, and violence.&nbsp\;Wynn and Jack have been best friends since freshman orientation\, bonded by their shared love of mountains\, books\, and fishing. Wynn is a gentle giant\, a Vermont kid never happier than when his feet are in the water. Jack is more rugged\, raised on a ranch in Colorado where sleeping under the stars and cooking on a fire came as naturally to him as breathing. When they decide to canoe the Maskwa River in northern Canada\, they anticipate long days of leisurely paddling and picking blueberries\, and nights of stargazing and reading paperback Westerns. But a wildfire making its way across the forest adds unexpected urgency to the journey. When they hear a man and woman arguing on the fog-shrouded riverbank and decide to warn them about the fire\, their search for the pair turns up nothing and no one. But: The next day a man appears on the river\, paddling alone. Is this the man they heard? And\, if he is\, where is the woman? From this charged beginning\, master storyteller Peter Heller unspools a headlong\, heart-pounding story of desperate wilderness survival.</strong></p>\n\n<p>PETER HELLER is the national bestselling author of&nbsp\;<em>Celine</em>\,&nbsp\;<em>The Painter</em>\, and&nbsp\;<em>The Dog Stars</em>.&nbsp\;<em>The Painter</em>&nbsp\;was a finalist for the Los Angeles Times Book Prize and won the prestigious Reading the West Book Award\, shared in the past by Western writers such as Cormac McCarthy and Terry Tempest Williams\, and&nbsp\;<em>The Dog Stars</em>\, which was published to critical acclaim and lauded as a breakout bestseller\, has been published in twenty-two languages to date. Heller is also the author of four nonfiction books\, including&nbsp\;<em>Kook: What Surfing Taught Me About Love\, Life\, and Catching the Perfect Wave</em>\, which was awarded the National Outdoor Book Award for Literature. He holds an MFA from the Iowa Writers&#39\; Workshop in poetry and fiction and lives in Denver\, Colorado.</p>\n
LOCATION:North Shore Distillery 13990 Rockland Road Green Oaks\, IL 60048
UID:e.1126.18770
SEQUENCE:3
DTSTAMP:20260420T122024Z
URL:https://business.lflbchamber.com/events/details/best-selling-author-peter-heller-at-norht-shore-distillery-18770
END:VEVENT

END:VCALENDAR
