BEGIN:VCALENDAR
VERSION:2.0
PRODID:-//ChamberMaster//Event Calendar 2.0//EN
METHOD:PUBLISH
X-PUBLISHED-TTL:P3D
REFRESH-INTERVAL:P3D
CALSCALE:GREGORIAN
BEGIN:VEVENT
DTSTART:20260420T130000Z
DTEND:20260420T143000Z
X-MICROSOFT-CDO-ALLDAYEVENT:FALSE
SUMMARY:Bird Walk with LFOLA at Greene Nature Preserve
DESCRIPTION:Register\, wear appropriate clothing and footwear\, and join Lake Forest Open Lands and Lake Forest Library off-site at Greene Nature Preserve (797-793 Sheridan Rd) for a bird hike led by a guide from the Lake County Audubon Society.
X-ALT-DESC;FMTTYPE=text/html:<span style="font-family:gotham\,sans-serif\; font-size:14px">Register\, wear appropriate clothing and footwear\, and join Lake Forest Open Lands and Lake Forest Library off-site at&nbsp\;</span><a href="https://lfola.org/your-preserves/jean-and-john-greene-nature-preserve/" style="box-sizing: border-box\; color: rgb(0\, 128\, 128)\; text-decoration-line: none\; font-weight: 700\; transition: 0.2s ease-in-out\; font-family: Gotham\, sans-serif\; font-size: 14px\;">Greene Nature Preserve</a><span style="font-family:gotham\,sans-serif\; font-size:14px">&nbsp\;(797-793 Sheridan Rd) for a bird hike led by a guide from the Lake County Audubon Society.</span>
LOCATION:Lake Forest Library 360 E Deerpath Rd Lake Forest IL 60045
UID:e.1126.33885
SEQUENCE:3
DTSTAMP:20260425T220942Z
URL:https://business.lflbchamber.com/events/details/bird-walk-with-lfola-at-greene-nature-preserve-33885
END:VEVENT

END:VCALENDAR
