BEGIN:VCALENDAR
VERSION:2.0
PRODID:-//ChamberMaster//Event Calendar 2.0//EN
METHOD:PUBLISH
X-PUBLISHED-TTL:P3D
REFRESH-INTERVAL:P3D
CALSCALE:GREGORIAN
BEGIN:VEVENT
DTSTART:20240614T230000Z
DTEND:20240615T033000Z
X-MICROSOFT-CDO-ALLDAYEVENT:FALSE
SUMMARY:Bitter Jester Music Festival
DESCRIPTION:Bitter Jester Music Festival features diverse musical artists\, theater\, comedians and more\; food and beverages available for purchase
X-ALT-DESC;FMTTYPE=text/html:Bitter Jester Music Festival features diverse musical artists\, theater\, comedians and more\; food and beverages available for purchase
LOCATION:Port Clinton Square 600 Central Ave Highland Park\, Il 60035
UID:e.1126.26627
SEQUENCE:3
DTSTAMP:20260424T011003Z
URL:https://business.lflbchamber.com/events/details/bitter-jester-music-festival-06-14-2024-26627
END:VEVENT

END:VCALENDAR
