BEGIN:VCALENDAR
VERSION:2.0
PRODID:-//ChamberMaster//Event Calendar 2.0//EN
METHOD:PUBLISH
X-PUBLISHED-TTL:P3D
REFRESH-INTERVAL:P3D
CALSCALE:GREGORIAN
BEGIN:VEVENT
DTSTART:20240607T230000Z
DTEND:20240608T030000Z
X-MICROSOFT-CDO-ALLDAYEVENT:FALSE
SUMMARY:Bitter Jester Music Festival
DESCRIPTION:Bitter Jester Music Festival at Port Clinton in Highland Park - excellent music and performance Friday and Saturday Nights\, 6-10 pm. Grand Finale Concert is June 29\, 2pm - 10 pm
X-ALT-DESC;FMTTYPE=text/html:Bitter Jester Music Festival at Port Clinton in Highland Park - excellent music and performance Friday and Saturday Nights\, 6-10 pm. Grand Finale Concert is June 29\, 2pm - 10 pm
LOCATION:Port Clinton Square in Highland Park 600 Central Ave Highland Park\, IL 60035
UID:e.1126.26624
SEQUENCE:3
DTSTAMP:20260424T010911Z
URL:https://business.lflbchamber.com/events/details/bitter-jester-music-festival-26624
END:VEVENT

END:VCALENDAR
