BEGIN:VCALENDAR
VERSION:2.0
PRODID:-//ChamberMaster//Event Calendar 2.0//EN
METHOD:PUBLISH
X-PUBLISHED-TTL:P3D
REFRESH-INTERVAL:P3D
CALSCALE:GREGORIAN
BEGIN:VEVENT
DTSTART:20231207T230000Z
DTEND:20231208T003000Z
X-MICROSOFT-CDO-ALLDAYEVENT:FALSE
SUMMARY:BIZ & BREWS
DESCRIPTION:Unwind from your day and join us for some informal networking at\n\nBiz & Brews...\n\nThis month at\n\nHansa Coffee Roasters (& beer & wine!)\n\n24 E. Scranton Ave. | Lake Bluff\n\n\n\nThursday\, December 7\n\n5:00 - 6:30 pm\n\n\n\nJoin us for some informal and fun networking at our monthly happy hour and meet-up event! We get together on the first Thursday of each month at a different local favorite -- it's a cash bar and nibbles are provided.\n\nAll are welcome! (Chamber membership not required)
X-ALT-DESC;FMTTYPE=text/html:<div style="text-align: center\;"><br />\n<span style="color:#008000\;"><span style="font-size:24px\;"><span style="font-size:22px\;"><font face="Arial\, Verdana\, Helvetica\, sans-serif"><em>Unwind from your day and join us for some informal networking at</em><br />\n<em><strong>Biz &amp\; Brews...</strong></em></font></span><br />\n<em><span style="font-size:18px\;">This month at</span></em><br />\n<strong>Hansa Coffee Roasters (&amp\; beer &amp\; wine!)</strong></span></span><br />\n<span style="font-size:20px\;"><strong><span style="color:#008000\;">24 E. Scranton Ave. | Lake Bluff</span></strong><br />\n<br />\nThursday\, December 7<br />\n5:00 - 6:30 pm</span><br />\n<br />\n<em><span style="font-size:16px\;">Join us for some informal and fun networking at our monthly happy hour and meet-up event! We get together on the first Thursday of each month at a different local favorite -- it&#39\;s a cash bar and nibbles are provided.</span></em><br />\n<strong><span style="font-size:16px\;"><span style="font-family:arial\;"><em>All are welcome! (Chamber membership not required)</em></span></span></strong></div>\n
LOCATION:Hansa 24 E. Scranton Ave.\, Lake Bluff
UID:e.1126.25735
SEQUENCE:3
DTSTAMP:20260424T100117Z
URL:https://business.lflbchamber.com/events/details/biz-brews-25735
END:VEVENT

END:VCALENDAR
