BEGIN:VCALENDAR
VERSION:2.0
PRODID:-//ChamberMaster//Event Calendar 2.0//EN
METHOD:PUBLISH
X-PUBLISHED-TTL:P3D
REFRESH-INTERVAL:P3D
CALSCALE:GREGORIAN
BEGIN:VEVENT
DTSTART:20250405T170000Z
DTEND:20250405T210000Z
X-MICROSOFT-CDO-ALLDAYEVENT:FALSE
SUMMARY:Bloom & Glow
DESCRIPTION:Guests can enjoy:\n\n  Free juice samples from Forest Green Juice Bar\n\n  A drop-in bouquet-making workshop with varying prices\n\n  Complimentary skincare samples
X-ALT-DESC;FMTTYPE=text/html:<span style="color:#444444\;"><span style="font-family:arial\,sans-serif\;"><span style="font-size:9.0pt\;">Guests can enjoy:</span></span></span><br data-end="347" data-start="344" fr-original-="" style="box-sizing:border-box\;" />\n<span style="color:#444444\;"><span style="font-family:segoe ui emoji\,sans-serif\;"><span style="font-size:9.0pt\;">&#127807\;</span></span></span><span style="color:#444444\;"><span style="font-family:arial\,sans-serif\;"><span style="font-size:9.0pt\;">&nbsp\;<strong data-end="372" data-start="350" fr-original-="" style="box-sizing:border-box\;"><span style="font-family:arial\,sans-serif\;">Free juice samples</span></strong> from Forest Green Juice Bar</span></span></span><br data-end="403" data-start="400" fr-original-="" style="box-sizing:border-box\;" />\n<span style="color:#444444\;"><span style="font-family:segoe ui emoji\,sans-serif\;"><span style="font-size:9.0pt\;">&#127800\;</span></span></span><span style="color:#444444\;"><span style="font-family:arial\,sans-serif\;"><span style="font-size:9.0pt\;">&nbsp\;<strong data-end="443" data-start="406" fr-original-="" style="box-sizing:border-box\;"><span style="font-family:arial\,sans-serif\;">A drop-in bouquet-making workshop</span></strong> with varying prices</span></span></span><br data-end="466" data-start="463" fr-original-="" style="box-sizing:border-box\;" />\n<span style="color:#444444\;"><span style="font-family:segoe ui emoji\,sans-serif\;"><span style="font-size:9.0pt\;">&#10024\;</span></span></span><span style="color:#444444\;"><span style="font-family:arial\,sans-serif\;"><span style="font-size:9.0pt\;"> <strong data-end="502" data-is-only-node="" data-start="468" fr-original-="" style="box-sizing:border-box\;"><span style="font-family:arial\,sans-serif\;">Complimentary skincare samples</span></strong></span></span></span>
LOCATION:Lake Forest Flowers 546 N. Western Ave. Lake Forest\, IL 60045
UID:e.1126.30574
SEQUENCE:3
DTSTAMP:20260424T040421Z
URL:https://business.lflbchamber.com/events/details/bloom-glow-30574
END:VEVENT

END:VCALENDAR
