BEGIN:VCALENDAR
VERSION:2.0
PRODID:-//ChamberMaster//Event Calendar 2.0//EN
METHOD:PUBLISH
X-PUBLISHED-TTL:P3D
REFRESH-INTERVAL:P3D
CALSCALE:GREGORIAN
BEGIN:VEVENT
DTSTART:20240704T230000Z
DTEND:20240705T010000Z
X-MICROSOFT-CDO-ALLDAYEVENT:FALSE
SUMMARY:Bluffinia July 4 Concert & Fun
DESCRIPTION:July 4 at the Beach! Concert & Fun\n\nSponsored by the Lake Bluff 4th of July Committee
X-ALT-DESC;FMTTYPE=text/html:July 4 at the Beach! Concert &amp\; Fun<br />\nSponsored by the Lake Bluff 4th of July Committee
LOCATION:Lake Bluff Beach
UID:e.1126.26722
SEQUENCE:3
DTSTAMP:20260423T205610Z
URL:https://business.lflbchamber.com/events/details/bluffinia-july-4-concert-fun-26722
END:VEVENT

END:VCALENDAR
