BEGIN:VCALENDAR
VERSION:2.0
PRODID:-//ChamberMaster//Event Calendar 2.0//EN
METHOD:PUBLISH
X-PUBLISHED-TTL:P3D
REFRESH-INTERVAL:P3D
CALSCALE:GREGORIAN
BEGIN:VEVENT
DTSTART:20260529T163000Z
DTEND:20260529T190000Z
X-MICROSOFT-CDO-ALLDAYEVENT:FALSE
SUMMARY:Book Lovers' Lunch
DESCRIPTION:An exclusive & inspiring afternoon with celebrated author\, Christina Clancy! Enjoy a delicious lunch\, captivating author talk & live Q&A all benefiting Bernie's Book Bank. Together\, we're building home libraries and sharing the love of books with local children who need them most.
X-ALT-DESC;FMTTYPE=text/html:An exclusive &amp\; inspiring afternoon with celebrated author\, Christina Clancy! Enjoy a delicious lunch\, captivating author talk &amp\; live Q&amp\;A&mdash\;all benefiting Bernie&rsquo\;s Book Bank. Together\, we&rsquo\;re building home libraries and sharing the love of books with local children who need them most.&nbsp\;
LOCATION:Bernie's Book Bank\, 917 North Shore Drive\, Lake Bluff\, IL 60044
UID:e.1126.34034
SEQUENCE:3
DTSTAMP:20260424T235428Z
URL:https://business.lflbchamber.com/events/details/book-lovers-lunch-05-29-2026-34034
END:VEVENT

END:VCALENDAR
