BEGIN:VCALENDAR
VERSION:2.0
PRODID:-//ChamberMaster//Event Calendar 2.0//EN
METHOD:PUBLISH
X-PUBLISHED-TTL:P3D
REFRESH-INTERVAL:P3D
CALSCALE:GREGORIAN
BEGIN:VEVENT
DTSTART:20190310T000000Z
DTEND:20190310T053000Z
X-MICROSOFT-CDO-ALLDAYEVENT:FALSE
SUMMARY:Boys & Girls Club of Lake County Annual Benefit
DESCRIPTION:Annual Fundraiser for the Boys & Girls Club of Lake County "A Marvelous Affair" Put on your cape and be a hero to Lake County youth as you support programs that build character\, drive academics\, cultivate creativity and teach good citizenship.
X-ALT-DESC;FMTTYPE=text/html:Annual Fundraiser for the Boys &amp\; Girls Club of Lake County &quot\;A Marvelous Affair&quot\; Put on your cape and be a hero to Lake County youth as you support programs that build character\, drive academics\, cultivate creativity and teach good citizenship.
LOCATION:Deer Path Inn 255 East Illinois Road Lake Forest\, IL 60045
UID:e.1126.17535
SEQUENCE:3
DTSTAMP:20260424T101415Z
URL:https://business.lflbchamber.com/events/details/boys-girls-club-of-lake-county-annual-benefit-17535
END:VEVENT

END:VCALENDAR
