BEGIN:VCALENDAR
VERSION:2.0
PRODID:-//ChamberMaster//Event Calendar 2.0//EN
METHOD:PUBLISH
X-PUBLISHED-TTL:P3D
REFRESH-INTERVAL:P3D
CALSCALE:GREGORIAN
BEGIN:VEVENT
DTSTART:20250523T000000Z
DTEND:20250523T010000Z
X-MICROSOFT-CDO-ALLDAYEVENT:FALSE
SUMMARY:Break Through Your Genealogy Brick Walls
DESCRIPTION:Register and join Lake County Genealogical Society in person for tips and case studies about breaking through genealogical brick walls\, those tough research problems and apparent dead-ends many of us face when searching our family histories.
X-ALT-DESC;FMTTYPE=text/html:<span style="font-family:gotham\,sans-serif\; font-size:14px">Register and join Lake County Genealogical Society in person for tips and case studies about breaking through genealogical brick walls\, those tough research problems and apparent dead-ends many of us face when searching our family histories.</span>
LOCATION:Lake Forest Library 360 E Deerpath Rd Lake Forest IL 60045
UID:e.1126.30700
SEQUENCE:3
DTSTAMP:20260424T053306Z
URL:https://business.lflbchamber.com/events/details/break-through-your-genealogy-brick-walls-30700
END:VEVENT

END:VCALENDAR
