BEGIN:VCALENDAR
VERSION:2.0
PRODID:-//ChamberMaster//Event Calendar 2.0//EN
METHOD:PUBLISH
X-PUBLISHED-TTL:P3D
REFRESH-INTERVAL:P3D
CALSCALE:GREGORIAN
BEGIN:VEVENT
DTSTART:20210319T140000Z
DTEND:20210319T160000Z
X-MICROSOFT-CDO-ALLDAYEVENT:FALSE
SUMMARY:Budgets & Financial Reports
DESCRIPTION:This no-cost workshop will give a solid foundation in finance and cover topics like forecasting\, purchasing decisions\, and financial legislation. Money matters can be intimidating for even the smartest people. However\, having a solid understanding of basic financial terms and methods is crucial to your career. When terms like ROI\, EBIT\, GAAP\, and extrapolation join the conversation\, you'll want to know what people are talking about\, and you'll want to be able to participate in the discussion.
X-ALT-DESC;FMTTYPE=text/html:This no-cost workshop will give a solid foundation in finance and cover topics like forecasting\, purchasing decisions\, and financial legislation. Money matters can be intimidating for even the smartest people. However\, having a solid understanding of basic financial terms and methods is crucial to your career. When terms like ROI\, EBIT\, GAAP\, and extrapolation join the conversation\, you&#39\;ll want to know what people are talking about\, and you&#39\;ll want to be able to participate in the discussion.
LOCATION:Live Zoom
UID:e.1126.19934
SEQUENCE:3
DTSTAMP:20260425T214251Z
URL:https://business.lflbchamber.com/events/details/budgets-financial-reports-19934
END:VEVENT

END:VCALENDAR
