BEGIN:VCALENDAR
VERSION:2.0
PRODID:-//ChamberMaster//Event Calendar 2.0//EN
METHOD:PUBLISH
X-PUBLISHED-TTL:P3D
REFRESH-INTERVAL:P3D
CALSCALE:GREGORIAN
BEGIN:VEVENT
DTSTART:20240626T160000Z
DTEND:20240626T173000Z
X-MICROSOFT-CDO-ALLDAYEVENT:FALSE
SUMMARY:Building Capacity for your Nonprofit
DESCRIPTION:You have established a nonprofit organization and are ready to grow and expand your reach in the community. How do you decide where to focus your efforts? How can you develop strategies to recruit more volunteers\, raise more funds\, and add new programs? This session will address those issues and get you on the right path for the future.
X-ALT-DESC;FMTTYPE=text/html:<span style="color: rgb(70\, 70\, 72)\; font-family: Lato\, Helvetica\, Arial\, &quot\;sans-serif&quot\;\; font-size: 20px\;">You have established a nonprofit organization and are ready to grow and expand your reach in the community. How do you decide where to focus your efforts? How can you develop strategies to recruit more volunteers\, raise more funds\, and add new programs? This session will address those issues and get you on the right path for the future.</span>
LOCATION:Virtual
UID:e.1126.27586
SEQUENCE:3
DTSTAMP:20260424T010738Z
URL:https://business.lflbchamber.com/events/details/building-capacity-for-your-nonprofit-27586
END:VEVENT

END:VCALENDAR
