BEGIN:VCALENDAR
VERSION:2.0
PRODID:-//ChamberMaster//Event Calendar 2.0//EN
METHOD:PUBLISH
X-PUBLISHED-TTL:P3D
REFRESH-INTERVAL:P3D
CALSCALE:GREGORIAN
BEGIN:VEVENT
DTSTART:20190717T223000Z
DTEND:20190718T000000Z
X-MICROSOFT-CDO-ALLDAYEVENT:FALSE
SUMMARY:Business After Hours at Flotstone
DESCRIPTION:Join the Chamber after work\n\nfor sips and nibbles
X-ALT-DESC;FMTTYPE=text/html:<div style="text-align: center\;"><br />\n<span style="color:#006400\;"><span style="font-size:20px\;"><strong>Join the Chamber&nbsp\;after work<br />\nfor sips and nibbles</strong></span></span><br />\n<br />\n&nbsp\;</div>\n
LOCATION:Flotstone 57 East Scranton Lake Bluff\, IL 60044
UID:e.1126.18048
SEQUENCE:3
DTSTAMP:20260424T055330Z
URL:https://business.lflbchamber.com/events/details/business-after-hours-at-flotstone-18048
END:VEVENT

END:VCALENDAR
