BEGIN:VCALENDAR
VERSION:2.0
PRODID:-//ChamberMaster//Event Calendar 2.0//EN
METHOD:PUBLISH
X-PUBLISHED-TTL:P3D
REFRESH-INTERVAL:P3D
CALSCALE:GREGORIAN
BEGIN:VEVENT
DTSTART:20200319T223000Z
DTEND:20200320T000000Z
X-MICROSOFT-CDO-ALLDAYEVENT:FALSE
SUMMARY:Business After Hours at Forest Bluff Animal Hospital
DESCRIPTION:Business After Hours\n\nJoin friends and colleagues for sips & nibbles \n\n\nTake a social break after work at this state-of-the-art animal hospital new to east Lake Bluff.
X-ALT-DESC;FMTTYPE=text/html:<div style="text-align: center\;"><span style="font-size: 16px\; color: rgb(71\, 155\, 70)\; font-weight: bold\; font-style: italic\;">&#65279\;</span><span style="font-size: 20px\; color: rgb(71\, 155\, 70)\; font-weight: bold\; font-style: italic\;">Business After Hours<br />\nJoin friends and colleagues for sips &amp\; nibbles </span></div>\n\n<div style="text-align: center\;">\n<div style="color: rgb(1\, 22\, 30)\; font-family: Arial\, Verdana\, Helvetica\, sans-serif\; font-size: 14px\; white-space: pre-wrap\; text-align: center\;">Take a social break after work at this state-of-the-art animal hospital new to east Lake Bluff.</div>\n</div>\n\n<div style="text-align: center\;">&nbsp\;</div>\n
LOCATION:Forest Bluff Animal Hospital 968 North Shore Drive\, Lake Bluff
UID:e.1126.19085
SEQUENCE:3
DTSTAMP:20260420T122138Z
URL:https://business.lflbchamber.com/events/details/business-after-hours-at-forest-bluff-animal-hospital-19085
END:VEVENT

END:VCALENDAR
