BEGIN:VCALENDAR
VERSION:2.0
PRODID:-//ChamberMaster//Event Calendar 2.0//EN
METHOD:PUBLISH
X-PUBLISHED-TTL:P3D
REFRESH-INTERVAL:P3D
CALSCALE:GREGORIAN
BEGIN:VEVENT
DTSTART:20190515T223000Z
DTEND:20190516T000000Z
X-MICROSOFT-CDO-ALLDAYEVENT:FALSE
SUMMARY:Business After Hours at Lake Forest Bank & Trust
DESCRIPTION:Join us after work at \n\nLake Forest Bank & Trust \n\nshowcasing the National Museum of the American Sailor\n\n\n\nThe event will not only feature a congenial evening of socializing with friends and colleagues but also a showcase of the National Museum of the American Sailor\, located by Naval Station Great Lakes.  Meet guests affiliated with the national NMAS Foundation and learn about the exciting plans for the museum's future growth and relocation to a 5-acre site in North Chicago near the military base.
X-ALT-DESC;FMTTYPE=text/html:<div style="text-align: center\;"><br />\n<strong><span style="font-size:14px\;">Join us after work at&nbsp\;<br />\n<span style="font-size:18px\;">Lake Forest Bank &amp\; Trust&nbsp\;</span><br />\nshowcasing the National Museum of the American Sailor</span></strong><br />\n<br />\n<i style="caret-color: rgb(50\, 49\, 48)\; color: rgb(50\, 49\, 48)\; font-family: Calibri\, sans-serif\; font-size: 14.666666984558105px\;"><span style="margin: 0px\; padding: 0px\; border: 0px\; font-family: inherit\; font-size: inherit\; font-style: inherit\; font-variant-caps: inherit\; font-stretch: inherit\; line-height: inherit\; vertical-align: baseline\; color: black\;">The event will not only feature a congenial evening of socializing with friends and colleagues but also a showcase of the National Museum of the American Sailor\, located by Naval Station Great Lakes.&nbsp\; Meet guests affiliated with the national NMAS Foundation and learn about the exciting plans for the museum&rsquo\;s future growth and relocation to a 5-acre site in North Chicago near the military base.</span></i></div>\n
LOCATION:Lake Forest Bank & Trust 727 N. Bank Lane\, Lake Forest
UID:e.1126.17824
SEQUENCE:3
DTSTAMP:20260424T085227Z
URL:https://business.lflbchamber.com/events/details/business-after-hours-at-lake-forest-bank-trust-17824
END:VEVENT

END:VCALENDAR
