BEGIN:VCALENDAR
VERSION:2.0
PRODID:-//ChamberMaster//Event Calendar 2.0//EN
METHOD:PUBLISH
X-PUBLISHED-TTL:P3D
REFRESH-INTERVAL:P3D
CALSCALE:GREGORIAN
BEGIN:VEVENT
DTSTART:20250604T143000Z
DTEND:20250604T153000Z
X-MICROSOFT-CDO-ALLDAYEVENT:FALSE
SUMMARY:Business Plans 101
DESCRIPTION:Gain insights into building a strong business plan with clear goals\, marketing strategies and financial planning essentials.
X-ALT-DESC;FMTTYPE=text/html:<!--StartFragment--><span data-olk-copy-source="MessageBody" style="margin: 0px\;">Gain insights into building a strong business plan with clear goals\, marketing strategies and financial planning essentials.</span><!--EndFragment-->
LOCATION:Zoom
UID:e.1126.31362
SEQUENCE:3
DTSTAMP:20260424T080643Z
URL:https://business.lflbchamber.com/events/details/business-plans-101-31362
END:VEVENT

END:VCALENDAR
