BEGIN:VCALENDAR
VERSION:2.0
PRODID:-//ChamberMaster//Event Calendar 2.0//EN
METHOD:PUBLISH
X-PUBLISHED-TTL:P3D
REFRESH-INTERVAL:P3D
CALSCALE:GREGORIAN
BEGIN:VEVENT
DTSTART:20220914T000000Z
DTEND:20220914T010000Z
X-MICROSOFT-CDO-ALLDAYEVENT:FALSE
SUMMARY:Can You Afford to Retire?
DESCRIPTION:Jigar Doshi of Bentron Financial Group will help attendees evaluate their readiness for retirement with several self-evaluation exercises. He will introduce the Ten Critical Questions every retiree must answer before embarking on a successful retirement. Attendees will be given in depth instruction on the nuances of Social Security and discuss the basic need for an estate and or financial plan.
X-ALT-DESC;FMTTYPE=text/html:<span style="background-color:rgb(255\, 255\, 255)\; color:rgb(51\, 51\, 51)\; font-family:arial\,helvetica\,verdana\; font-size:12px">Jigar Doshi of Bentron Financial Group will help attendees evaluate their readiness for retirement with several self-evaluation exercises. He will introduce the Ten Critical Questions every retiree must answer before embarking on a successful retirement. Attendees will be given in depth instruction on the nuances of Social Security and discuss the basic need for an estate and or financial plan.</span>
LOCATION:Lake Bluff Public Library 123 E. Scranton Ave. Lake Bluff\, IL. 60044
UID:e.1126.22427
SEQUENCE:3
DTSTAMP:20260426T040929Z
URL:https://business.lflbchamber.com/events/details/can-you-afford-to-retire-22427
END:VEVENT

END:VCALENDAR
