BEGIN:VCALENDAR
VERSION:2.0
PRODID:-//ChamberMaster//Event Calendar 2.0//EN
METHOD:PUBLISH
X-PUBLISHED-TTL:P3D
REFRESH-INTERVAL:P3D
CALSCALE:GREGORIAN
BEGIN:VEVENT
DTSTART:20210319T000000Z
DTEND:20210319T021500Z
X-MICROSOFT-CDO-ALLDAYEVENT:FALSE
SUMMARY:Candidate Forum - Lake Bluff Municipal Boards
DESCRIPTION:The League of Women Voters of Lake Forest/Lake Bluff Area invites residents to hear candidates running for the Lake Bluff Public Library Board\, Park District Board\, and Village President and Board. All candidates for these important local positions have been invited. Registration is required for the zoom webinar. When registering\, a question for the candidates can be submitted. A link will be sent.
X-ALT-DESC;FMTTYPE=text/html:The League of Women Voters of Lake Forest/Lake Bluff Area invites residents to hear candidates running for the Lake Bluff Public Library Board\, Park District Board\, and Village President and Board. All candidates for these important local positions have been invited. Registration is required for the zoom webinar. When registering\, a question for the candidates can be submitted. A link will be sent.
LOCATION:Zoom webinar
UID:e.1126.19959
SEQUENCE:3
DTSTAMP:20260425T214546Z
URL:https://business.lflbchamber.com/events/details/candidate-forum-lake-bluff-municipal-boards-19959
END:VEVENT

END:VCALENDAR
