BEGIN:VCALENDAR
VERSION:2.0
PRODID:-//ChamberMaster//Event Calendar 2.0//EN
METHOD:PUBLISH
X-PUBLISHED-TTL:P3D
REFRESH-INTERVAL:P3D
CALSCALE:GREGORIAN
BEGIN:VEVENT
DTSTART:20210314T190000Z
DTEND:20210314T213000Z
X-MICROSOFT-CDO-ALLDAYEVENT:FALSE
SUMMARY:Candidate Forum - School Boards
DESCRIPTION:The League of Women Voters of Lake Forest/Lake Bluff Area invites residents to hear candidates running for the Lake Forest High School Board of Education and candidates running for L.F. School District 67 Board. All candidates for these hotly contested races have been invited. Registration is required. Go to www.LWV-LFLB.ORG. A question for the candidates can be submitted on the registration form. A link to the event will be sent.
X-ALT-DESC;FMTTYPE=text/html:The League of Women Voters of Lake Forest/Lake Bluff Area invites residents to hear candidates running for the Lake Forest High School Board of Education and candidates running for L.F. School District 67 Board. All candidates for these hotly contested races have been invited. Registration is required. Go to www.LWV-LFLB.ORG. A question for the candidates can be submitted on the registration form. A link to the event will be sent.
LOCATION:Zoom webinar
UID:e.1126.19958
SEQUENCE:3
DTSTAMP:20260425T214337Z
URL:https://business.lflbchamber.com/events/details/candidate-forum-school-boards-19958
END:VEVENT

END:VCALENDAR
