BEGIN:VCALENDAR
VERSION:2.0
PRODID:-//ChamberMaster//Event Calendar 2.0//EN
METHOD:PUBLISH
X-PUBLISHED-TTL:P3D
REFRESH-INTERVAL:P3D
CALSCALE:GREGORIAN
BEGIN:VEVENT
DTSTART:20190502T230000Z
DTEND:20190503T013000Z
X-MICROSOFT-CDO-ALLDAYEVENT:FALSE
SUMMARY:Career Resource Center Fiesta!
DESCRIPTION:Career Resource Center Fiesta!\n\nFundraiser\nJoin us for an evening supporting the work of Career Resource Center so they may continue to help change lives and strengthen communities through confidence-building\, results-focused employment resources. \n\n\n\nYou can help support Career Resource Center's mission by attending their upcoming fundraiser   Career Recourse Center Fiesta!\n\n\n\nAt the event you will enjoy \n\n        Craft Cocktails - created by the talented mixologists of North Shore Distillery\n\n        Authentic Mexican Fare - menu prepared by renowned Chef Freddy Sanchez of Taco Vida\n\n        Raffle Prizes & Silent Auction Items   including a Tiffany & Co. Necklace - Ravinia Experience - Cubs Tickets - Curated Collection of Wine -and more!\n\n        Live Music - Latin Acoustic Guitar Performed by Luciano Antonio\n\n        Craft Cocktail Demonstrations - featuring spirits distilled on-site\n\n        Distillery Tours - limited availability with purchase of VIP Experience \n\n\n\nSupporting CRC's mission has never been so fun!\n\n\n\nFor all the information including how to purchase tickets visit www.CareerResourceCenter.org\n\n\n\nTransforming careers has remained constant throughout CRC's 29 year history. Individualized counseling\, career-skills workshops\, and an array of informational material have accelerated the return to significant and productive career paths of more than 13\,000 individuals. Members span a range of disciplines\, professions\, experiences\, and compensation levels. Keeping pace with changing marketplace demands\, technological advances\, employer expectations\, candidate needs and the economic environment\, CRC delivers high-caliber employment assistance. As a nonprofit 501(c)(3)\, CRC can provide high quality services offered at an affordable fee.
X-ALT-DESC;FMTTYPE=text/html:<div style="text-align: center\;"><strong><span style="font-size:36px">Career Resource Center Fiesta!<br />\nFundraiser</span></strong></div>\n<span style="font-size:12pt">Join us for an evening supporting the work of Career Resource Center so they may continue to help change lives and strengthen communities through confidence-building\, results-focused employment resources.&nbsp\;</span><br />\n<br />\n<span style="font-size:12pt">You can help support Career Resource Center&rsquo\;s mission by attending their upcoming fundraiser &ndash\; Career Recourse Center Fiesta!</span><br />\n<br />\n<span style="font-size:12pt">At the event you will enjoy&hellip\;</span><br />\n<span style="font-family:symbol"><span style="font-size:12pt">&middot\;&nbsp\;&nbsp\;&nbsp\;&nbsp\;&nbsp\;&nbsp\; </span></span><span style="font-size:12pt">Craft Cocktails - created by the talented mixologists of North Shore Distillery</span><br />\n<span style="font-family:symbol"><span style="font-size:12pt">&middot\;&nbsp\;&nbsp\;&nbsp\;&nbsp\;&nbsp\;&nbsp\; </span></span><span style="font-size:12pt">Authentic Mexican Fare - menu prepared by renowned Chef Freddy Sanchez of Taco Vida</span><br />\n<span style="font-family:symbol"><span style="font-size:12pt">&middot\;&nbsp\;&nbsp\;&nbsp\;&nbsp\;&nbsp\;&nbsp\; </span></span><span style="font-size:12pt">Raffle Prizes&nbsp\;&amp\; Silent Auction Items &ndash\; including a Tiffany &amp\; Co. Necklace - Ravinia Experience - Cubs Tickets - Curated Collection of Wine -and more!</span><br />\n<span style="font-family:symbol"><span style="font-size:12pt">&middot\;&nbsp\;&nbsp\;&nbsp\;&nbsp\;&nbsp\;&nbsp\; </span></span><span style="font-size:12pt">Live Music - Latin Acoustic Guitar Performed by Luciano Antonio</span><br />\n<span style="font-family:symbol"><span style="font-size:12pt">&middot\;&nbsp\;&nbsp\;&nbsp\;&nbsp\;&nbsp\;&nbsp\; </span></span><span style="font-size:12pt">Craft Cocktail Demonstrations - featuring&nbsp\;spirits distilled on-site</span><br />\n<span style="font-family:symbol"><span style="font-size:12pt">&middot\;&nbsp\;&nbsp\;&nbsp\;&nbsp\;&nbsp\;&nbsp\; </span></span><span style="font-size:12pt">Distillery Tours&nbsp\;- limited availability with purchase of VIP Experience&nbsp\;</span><br />\n<br />\n<span style="font-size:12pt">Supporting CRC&#39\;s mission has never been so fun!</span><br />\n<br />\n<strong><span style="font-family:arial\,sans-serif"><span style="font-size:12.0pt"><span style="font-size:26px">For all the information including how to purchase tickets visit </span><a href="http://www.careerresourcecenter.org/"><span style="font-size:26px">www.CareerResourceCenter.org</span></a></span></span></strong><br />\n<br />\n<span style="background-color:rgb(255\, 255\, 255)\; color:rgb(51\, 51\, 51)\; font-family:sans-serif\,arial\,verdana\,trebuchet ms\; font-size:16px">Transforming careers has remained constant throughout CRC&rsquo\;s 29 year history. Individualized counseling\, career-skills workshops\, and an array of informational material have accelerated the return to significant and productive career paths of more than 13\,000 individuals. Members span a range of disciplines\, professions\, experiences\, and compensation levels. Keeping pace with changing marketplace demands\, technological advances\, employer expectations\, candidate needs and the economic environment\, CRC delivers high-caliber employment assistance. As a nonprofit 501(c)(3)\, CRC can provide high quality services offered at an affordable fee.</span>
LOCATION:North Shore Distillery 13990 Rockland Road Green Oaks/Libertyville\, IL 60048
UID:e.1126.17822
SEQUENCE:3
DTSTAMP:20260424T071935Z
URL:https://business.lflbchamber.com/events/details/career-resource-center-fiesta-17822
END:VEVENT

END:VCALENDAR
