BEGIN:VCALENDAR
VERSION:2.0
PRODID:-//ChamberMaster//Event Calendar 2.0//EN
METHOD:PUBLISH
X-PUBLISHED-TTL:P3D
REFRESH-INTERVAL:P3D
CALSCALE:GREGORIAN
BEGIN:VEVENT
DTSTART:20231221T223000Z
DTEND:20231222T000000Z
X-MICROSOFT-CDO-ALLDAYEVENT:FALSE
SUMMARY:Carols & Cocoa
DESCRIPTION:Let's raise some spirits and raise funds as a community and support local 4th grader\, Olivia Rubeck and family as she continues her battle against Leukemia. We will be caroling at Market Square and serving hot cocoa\, cookies and other local baked goods. We will also be filming well wishes for Olivia and her family!
X-ALT-DESC;FMTTYPE=text/html:Let&#39\;s raise some spirits and raise funds as a community and support local 4th grader\, Olivia Rubeck and family as she continues her battle against Leukemia. We will be caroling at Market Square and serving hot cocoa\, cookies and other local baked goods. We will also be filming well wishes for Olivia and her family!
LOCATION:Market Square\, Lake Forest IL
UID:e.1126.26148
SEQUENCE:3
DTSTAMP:20260424T100037Z
URL:https://business.lflbchamber.com/events/details/carols-cocoa-26148
END:VEVENT

END:VCALENDAR
