BEGIN:VCALENDAR
VERSION:2.0
PRODID:-//ChamberMaster//Event Calendar 2.0//EN
METHOD:PUBLISH
X-PUBLISHED-TTL:P3D
REFRESH-INTERVAL:P3D
CALSCALE:GREGORIAN
BEGIN:VEVENT
DTSTART:20250516T230000Z
DTEND:20250517T030000Z
X-MICROSOFT-CDO-ALLDAYEVENT:FALSE
SUMMARY:Cattails & Cocktails
DESCRIPTION:Lake Forest Open Lands Association Cattails & Cocktails event is run and organized by the Associate Board. Once again\, we will be celebrating "Camp LFOLA" where we'll be bringing together the community at Mellody Farm Nature Preserve. Enjoy delicious comfort food\, camp-like games\, live music\, and end the evening with s'mores by the fire. All proceeds benefit Lake Forest Open Lands' mission.
X-ALT-DESC;FMTTYPE=text/html:Lake Forest Open Lands Association Cattails &amp\; Cocktails event is run and organized by the Associate Board. Once again\, we will be celebrating &ldquo\;Camp LFOLA&rdquo\; where we&rsquo\;ll be bringing together the community at Mellody Farm Nature Preserve. Enjoy delicious comfort food\, camp-like games\, live music\, and end the evening with s&rsquo\;mores by the fire. All proceeds benefit Lake Forest Open Lands&rsquo\; mission.
LOCATION:Lake Forest Open Lands Association Mellody Farm Nature Preserve 350 N. Waukegan Road Lake Forest
UID:e.1126.30697
SEQUENCE:3
DTSTAMP:20260424T053112Z
URL:https://business.lflbchamber.com/events/details/cattails-cocktails-30697
END:VEVENT

END:VCALENDAR
