BEGIN:VCALENDAR
VERSION:2.0
PRODID:-//ChamberMaster//Event Calendar 2.0//EN
METHOD:PUBLISH
X-PUBLISHED-TTL:P3D
REFRESH-INTERVAL:P3D
CALSCALE:GREGORIAN
BEGIN:VEVENT
DTSTART:20250426T150000Z
DTEND:20250426T170000Z
X-MICROSOFT-CDO-ALLDAYEVENT:FALSE
SUMMARY:Celebrate Earth!
DESCRIPTION:Join us in celebrating our amazing planet! Swing by to uncover the wonders of Lake Forest Open Lands and Mother Nature's finest offerings. We've got activities for everyone\, tailored for all ages and all skill levels. Dive into wetland exploration\, try your hand at birding\, enjoy guided hikes\, and pick up some restoration tips along the way.
X-ALT-DESC;FMTTYPE=text/html:Join us in celebrating our amazing planet! Swing by to uncover the wonders of Lake Forest Open Lands and Mother Nature&rsquo\;s finest offerings. We&rsquo\;ve got activities for everyone\, tailored for all ages and all skill levels. Dive into wetland exploration\, try your hand at birding\, enjoy guided hikes\, and pick up some restoration tips along the way.
LOCATION:Lake Forest Open Lands Association Mellody Farm Nature Preserve 350 N. Waukegan Road\, Lake Forest
UID:e.1126.30696
SEQUENCE:3
DTSTAMP:20260424T041033Z
URL:https://business.lflbchamber.com/events/details/celebrate-earth-30696
END:VEVENT

END:VCALENDAR
