BEGIN:VCALENDAR
VERSION:2.0
PRODID:-//ChamberMaster//Event Calendar 2.0//EN
METHOD:PUBLISH
X-PUBLISHED-TTL:P3D
REFRESH-INTERVAL:P3D
CALSCALE:GREGORIAN
BEGIN:VEVENT
DTSTART:20190313T163000Z
DTEND:20190313T180000Z
X-MICROSOFT-CDO-ALLDAYEVENT:FALSE
SUMMARY:CHAMBER LUNCHEON
DESCRIPTION:"The College of Lake County: Reframing\, Reimagining\, and Reengineering for our Region's Future"\n\n\n\nwith guest\n\nDr. Lori Suddick\n\nPresident\, College of Lake County\n\n\n\nCommitted to equity in access and success in degree attainment for every student\, the College of Lake County (CLC) is undergoing a comprehensive evaluative process to ensure its programs and services meet the needs of today's students\, communities\, employers and workforce. Dr. Suddick's presentation will provide an overview of CLC's current efforts to design a systemic framework aligned with the changing economic and demographic landscape and will offer insights as to the underlying imperative of this work.\n\n \n \n\nOUR SPEAKER...\n\nDr. Lori Suddick has served as president at College of Lake County (CLC) since May 2019. Lori has 20 years of higher education experience serving in faculty through executive leadership roles. At CLC\, Lori is focused on building a collaborative high-performing student-focused culture where every student succeeds and every employee thrives. As a first generation college student\, she is passionate about the transformative power of education for individuals\, families\, and communities. She is committed to significantly increasing student access and success while eliminating racial and socioeconomic disparities in educational attainment. Lori is also committed to building innovative and collaborative community partnerships for workforce solutions and economic development.\n\n \n\nLori currently serves as a national coach for the American Association of Community Colleges (AACC) Guided Pathways project focused on building a systemic design framework to achieve equitable student success outcomes. She currently serves on the following Boards: Community Colleges for International Development (CCID)\, Lake County United Way\, Lake County Workforce Development Board\, Lake County Partners\, and Lake County High School Technology Campus.
X-ALT-DESC;FMTTYPE=text/html:<div style="text-align: center\;"><br />\n<br />\n<strong><span style="font-size:24px\;"><em><span style="font-family:calibri\,sans-serif\;">&ldquo\;The College of Lake County: Reframing\, Reimagining\, and Reengineering for our Region&rsquo\;s Future&rdquo\;</span></em></span></strong><br />\n<br />\n<strong style="text-align: center\;">with guest<br />\n<span style="font-size: 18px\;">Dr. Lori Suddick<br />\nPresident\, College of Lake County</span></strong><br />\n<br />\n<span style="font-size:14px\;">Committed to equity in access and success in degree attainment for every student\, the College of Lake County (CLC) is undergoing a comprehensive evaluative process to ensure its programs and services meet the needs of today&rsquo\;s students\, communities\, employers and workforce. Dr. Suddick&#39\;s presentation will provide an overview of CLC&rsquo\;s current efforts to design a systemic framework aligned with the changing economic and demographic landscape and will offer insights as to the underlying imperative of this work.</span><br />\n&nbsp\;\n<hr /><span style="font-size:14px\;">&nbsp\;</span><br />\n<strong><span style="font-size:12px\;">OUR SPEAKER...</span></strong><br />\n<span style="font-size:12px\;"><span style="font-family:arial\;"><em>Dr. Lori Suddick has served as president at College of Lake County (CLC) since May 2019. Lori has 20 years of higher education experience serving in faculty through executive leadership roles. At CLC\, Lori is focused on building a collaborative high-performing student-focused culture where every student succeeds and every employee thrives. As a first generation college student\, she is passionate about the transformative power of education for individuals\, families\, and communities. She is committed to significantly increasing student access and success while eliminating racial and socioeconomic disparities in educational attainment. Lori is also committed to building innovative and collaborative community partnerships for workforce solutions and economic development.<br />\n&nbsp\;<br />\nLori currently serves as <span style="color:#282828\;">a national coach for the American Association of Community Colleges (AACC) Guided Pathways project focused on building a systemic design framework to achieve equitable </span>student success outcomes. She currently serves on the following Boards: Community Colleges for International Development (CCID)\, Lake County United Way\, Lake County Workforce Development Board\, Lake County Partners\, and Lake County High School Technology Campus.<br />\n&nbsp\;</em></span></span></div>\n
LOCATION:Lake Forest Club 554 N. Westmoreland Road Lake Forest\, IL 60045
UID:e.1126.10087
SEQUENCE:3
DTSTAMP:20260424T100418Z
URL:https://business.lflbchamber.com/events/details/chamber-luncheon-03-13-2019-10087
END:VEVENT

END:VCALENDAR
