BEGIN:VCALENDAR
VERSION:2.0
PRODID:-//ChamberMaster//Event Calendar 2.0//EN
METHOD:PUBLISH
X-PUBLISHED-TTL:P3D
REFRESH-INTERVAL:P3D
CALSCALE:GREGORIAN
BEGIN:VEVENT
DTSTART:20190508T163000Z
DTEND:20190508T180000Z
X-MICROSOFT-CDO-ALLDAYEVENT:FALSE
SUMMARY:Chamber Luncheon with LFHS Foundation and Business Incubator
DESCRIPTION:LFHS & BUSINESS PARTNERSHIPS:\n\nTraining the Next Generation of Entrepreneurs & Employees\n\n\n\nJoin us to learn about the mutual benefits of Lake Forest High School groups working with local business organizations.\n\n\n\nRepresentatives from Lake Forest High School\, including Jim Sullivan\, Assistant Principal of Enrichment and Engagement\, Joe Pulio\, head of the Business Incubator Program and Sandy Horan\, Special Education Teacher and Vocational Coordinator at LFHS will present the numerous opportunities students have to learn how their educational experience relates to future career opportunites.
X-ALT-DESC;FMTTYPE=text/html:<p><strong><span style="font-size:16px\;">LFHS &amp\; BUSINESS PARTNERSHIPS:<br />\nTraining the Next Generation of Entrepreneurs &amp\; Employees</span></strong><br />\n<br />\nJoin us to learn about the mutual benefits of Lake Forest High School groups working with local business organizations.<br />\n<br />\nRepresentatives from Lake Forest High School\, including Jim Sullivan\, Assistant Principal of Enrichment and Engagement\, Joe Pulio\, head of the Business Incubator Program and Sandy Horan\, Special Education Teacher and Vocational Coordinator at LFHS&nbsp\;will present the numerous opportunities students have to learn how their educational experience relates to future career opportunites. &nbsp\;<br />\n&nbsp\;<br />\n&nbsp\;</p>\n
LOCATION:Lake Forest Club 554 North Westmoreland Rd. Lake Forest\, IL 60045
UID:e.1126.17812
SEQUENCE:3
DTSTAMP:20260424T085152Z
URL:https://business.lflbchamber.com/events/details/chamber-luncheon-with-lfhs-foundation-and-business-incubator-17812
END:VEVENT

END:VCALENDAR
