BEGIN:VCALENDAR
VERSION:2.0
PRODID:-//ChamberMaster//Event Calendar 2.0//EN
METHOD:PUBLISH
X-PUBLISHED-TTL:P3D
REFRESH-INTERVAL:P3D
CALSCALE:GREGORIAN
BEGIN:VEVENT
DTSTART:20190808T140000Z
DTEND:20190808T150000Z
X-MICROSOFT-CDO-ALLDAYEVENT:FALSE
SUMMARY:Chamber Orientation Workshop
DESCRIPTION:Take one hour out of your day to get all the tips on maximizing your Chamber Membership. Perfect for new members\, or those wanting details on our member benefit packages.
X-ALT-DESC;FMTTYPE=text/html:Take one hour out of your day to get all the tips on maximizing your Chamber Membership. Perfect for new members\, or those wanting details on our member benefit packages.
LOCATION:LF/LB Chamber of Commerce Offices 272 East Deerpath\, Suite 106 Lake Forest\, IL 60045
UID:e.1126.17400
SEQUENCE:3
DTSTAMP:20260420T022425Z
URL:https://business.lflbchamber.com/events/details/chamber-member-benefit-workshop-08-08-2019-17400
END:VEVENT

END:VCALENDAR
