BEGIN:VCALENDAR
VERSION:2.0
PRODID:-//ChamberMaster//Event Calendar 2.0//EN
METHOD:PUBLISH
X-PUBLISHED-TTL:P3D
REFRESH-INTERVAL:P3D
CALSCALE:GREGORIAN
BEGIN:VEVENT
DTSTART:20250508T223000Z
DTEND:20250508T233000Z
X-MICROSOFT-CDO-ALLDAYEVENT:FALSE
SUMMARY:Chess Club (Spring 2025)
DESCRIPTION:Whether you are new to chess\, or seeking to hone your techniques\, Mark Hamilton will provide chess guidance to help you improve your game. Registration is required.\n\nChess Club is for ages 6 - 12.\n\nWe will have additional Chess Clubs on April 10th and May 8th
X-ALT-DESC;FMTTYPE=text/html:<p>Whether you are new to chess\, or seeking to hone your techniques\, Mark Hamilton will provide chess guidance to help you improve your game. Registration is required.</p>\n\n<p><strong>Chess Club is for ages 6 - 12.</strong></p>\n\n<p><strong>We will have additional Chess Clubs on April 10th and May 8th</strong></p>\n
LOCATION:Lake Bluff Public Library 123 E. Scranton Ave. Lake Bluff\, IL. 60044
UID:e.1126.29890
SEQUENCE:3
DTSTAMP:20260424T053334Z
URL:https://business.lflbchamber.com/events/details/chess-club-spring-2025-05-08-2025-29890
END:VEVENT

END:VCALENDAR
