BEGIN:VCALENDAR
VERSION:2.0
PRODID:-//ChamberMaster//Event Calendar 2.0//EN
METHOD:PUBLISH
X-PUBLISHED-TTL:P3D
REFRESH-INTERVAL:P3D
CALSCALE:GREGORIAN
BEGIN:VEVENT
DTSTART:20190413T003000Z
DTEND:20190413T020000Z
X-MICROSOFT-CDO-ALLDAYEVENT:FALSE
SUMMARY:CHICAGO A CAPPELLA performs “Dynamic Duos” at Gorton
DESCRIPTION:Come appreciate the art of ensemble singing with Chicago a cappella at Gorton Community Center on Tuesday\, April 12 for their performance of "Dynamic Duos". From classical to classic rock and pop\, musical theater and opera\, Chicago a cappella shines a spotlight on your favorite songwriting and performing duos from Gilbert and Sullivan to Simon and Garfunkel and beyond. Long recognized for vocal virtuosity and innovative programming\, Chicago a cappella enjoys a reputation as a leader in the choral field. Through Chicago0-area concerts\, guest appearances locally and on tour\, CD recordings\, broadcast appearances\, and educational and community outreach\, Chicago a cappella moves hearts with a fun\, innovative approach that enriches people's lives through music.
X-ALT-DESC;FMTTYPE=text/html:Come appreciate the art of ensemble singing with Chicago a cappella at Gorton Community Center on Tuesday\, April 12 for their performance of &ldquo\;Dynamic Duos&rdquo\;. From classical to classic rock and pop\, musical theater and opera\, Chicago a cappella shines a spotlight on your favorite songwriting and performing duos from Gilbert and Sullivan to Simon and Garfunkel and beyond. Long recognized for vocal virtuosity and innovative programming\, Chicago a cappella enjoys a reputation as a leader in the choral field. Through Chicago0-area concerts\, guest appearances locally and on tour\, CD recordings\, broadcast appearances\, and educational and community outreach\, Chicago a cappella moves hearts with a fun\, innovative approach that enriches people&rsquo\;s lives through music.
LOCATION:Gorton Community Center 400 E. Illinois Road Lake Forest\, IL 60045
UID:e.1126.17665
SEQUENCE:3
DTSTAMP:20260424T084521Z
URL:https://business.lflbchamber.com/events/details/chicago-a-cappella-performs-dynamic-duos-at-gorton-17665
END:VEVENT

END:VCALENDAR
