BEGIN:VCALENDAR
VERSION:2.0
PRODID:-//ChamberMaster//Event Calendar 2.0//EN
METHOD:PUBLISH
X-PUBLISHED-TTL:P3D
REFRESH-INTERVAL:P3D
CALSCALE:GREGORIAN
BEGIN:VEVENT
DTSTART:20190614T000000Z
DTEND:20190614T020000Z
X-MICROSOFT-CDO-ALLDAYEVENT:FALSE
SUMMARY:Chicago Bears Book Talk and Bears Exhibit Opening
DESCRIPTION:Don Pierson and Dan Pompei\, Hall-of-Fame sports writers and co-authors of The Chicago Bears Centennial Scrapbook\, will participate in a discussion of franchise history. A book signing will follow. Guests will also have the opportunity to view a new exhibit\, "Homefield Advantage: The Chicago Bears in Lake Forest and Lake Bluff\," in the gallery.
X-ALT-DESC;FMTTYPE=text/html:Don Pierson and Dan Pompei\, Hall-of-Fame sports writers and co-authors of The Chicago Bears Centennial Scrapbook\, will participate in a discussion of franchise history. A book signing will follow. Guests will also have the opportunity to view a new exhibit\, &quot\;Homefield Advantage: The Chicago Bears in Lake Forest and Lake Bluff\,&quot\; in the gallery.&nbsp\;&nbsp\;
LOCATION:Hunter Family Education Hall\, History Center of Lake Forest-Lake Bluff\, 509 East Deerpath\, Lake Forest\, IL
UID:e.1126.17957
SEQUENCE:3
DTSTAMP:20260424T055520Z
URL:https://business.lflbchamber.com/events/details/chicago-bears-book-talk-and-bears-exhibit-opening-17957
END:VEVENT

END:VCALENDAR
