BEGIN:VCALENDAR
VERSION:2.0
PRODID:-//ChamberMaster//Event Calendar 2.0//EN
METHOD:PUBLISH
X-PUBLISHED-TTL:P3D
REFRESH-INTERVAL:P3D
CALSCALE:GREGORIAN
BEGIN:VEVENT
DTSTART:20240607T140000Z
DTEND:20240607T220000Z
X-MICROSOFT-CDO-ALLDAYEVENT:FALSE
SUMMARY:Children's Book Sale
DESCRIPTION:Friends of Lake Forest Library Children's Book Sale \n\n        Thursday\,  June 6\, 9:00am-5:00pm\n\n         Friday\, June 7\, 9:00am-5:00pm\n\n          Saturday\, June 8\, 9:00am-3:00pm\n\n          Lake Forest Library Foyer\n\n\n\nCome shop a great selection of gently used\, bargain-priced children's books\, just in time for the Library's Summer Reading Program and your summer trips and staycations.  Hosted by the Friends of Lake Forest Library.
X-ALT-DESC;FMTTYPE=text/html:Friends of Lake Forest Library Children&#39\;s Book Sale&nbsp\;<br />\n&nbsp\;&nbsp\;&nbsp\;&nbsp\;&nbsp\;&nbsp\;&nbsp\;&nbsp\;<span style="color:#222222"><span style="font-family:times new roman\,serif">Thursday\,&nbsp\; June 6\, 9:00am-5:00pm</span></span><br />\n<span style="color:#222222"><span style="font-family:times new roman\,serif">&nbsp\; &nbsp\; &nbsp\;</span></span>&nbsp\;&nbsp\;&nbsp\;&nbsp\;<span style="color:#222222"><span style="font-family:times new roman\,serif">Friday\, June 7\, 9:00am-5:00pm</span></span><br />\n<span style="color:#222222"><span style="font-family:times new roman\,serif">&nbsp\; &nbsp\; &nbsp\; &nbsp\; &nbsp\; Saturday\, June 8\, 9:00am-3:00pm</span></span><br />\n<span style="color:#222222"><span style="font-family:times new roman\,serif">&nbsp\; &nbsp\; &nbsp\; &nbsp\; &nbsp\; Lake Forest Library Foyer</span></span><br />\n<br />\n<span style="font-family:arial\,helvetica\,sans-serif"><span style="color:rgb(34\, 34\, 34)">Come shop&nbsp\;</span></span><span style="color:rgb(34\, 34\, 34)"><span style="font-family:helvetica neue"><span style="font-family:arial\,helvetica\,sans-serif">a great </span>selection of gently used\, bargain-priced children&#39\;s books\, just in time for the Library&#39\;s Summer Reading Program and your summer trips and staycations.&nbsp\; Hosted by the Friends of Lake Forest Library.</span></span>
LOCATION:Lake Forest Library Foyer 360 E. Deerpath Lake Forest\, IL 60045
UID:e.1126.26656
SEQUENCE:3
DTSTAMP:20260424T010757Z
URL:https://business.lflbchamber.com/events/details/children-s-book-sale-06-07-2024-26656
END:VEVENT

END:VCALENDAR
