BEGIN:VCALENDAR
VERSION:2.0
PRODID:-//ChamberMaster//Event Calendar 2.0//EN
METHOD:PUBLISH
X-PUBLISHED-TTL:P3D
REFRESH-INTERVAL:P3D
CALSCALE:GREGORIAN
BEGIN:VEVENT
DTSTART;VALUE=DATE:20190608
DTEND;VALUE=DATE:20190609
TRANSP:TRANSPARENT
X-MICROSOFT-CDO-ALLDAYEVENT:TRUE
SUMMARY:Children's Summer Reading Club Begins!
DESCRIPTION:Presto chango\, the Children's Summer Reading Club has been transformed! All participants from preschool through seventh grade will have a goal of reading a total of 500 minutes this summer. Read at least twenty minutes (or more!) to check in receive one of our fun daily prizes\, a sticker to track your progress\, and a penny to put in our jar for Bernie's Book Bank. Program finishers will also receive their choice of a paperback book and other fun prizes. Receive a "charming" bonus prize if you are one of the first 100 kids to sign up on Saturday\, June 8th.\n\nRegistration is not required.
X-ALT-DESC;FMTTYPE=text/html:<span style="color:rgb(0\, 0\, 0)\; font-family:arial\,sans-serif\; font-size:14.0085px">Presto chango\, the Children&rsquo\;s Summer Reading Club has been transformed! All participants from preschool through seventh grade will have a goal of reading a total of 500 minutes this summer. Read at least twenty minutes (or more!) to check in receive one of our fun daily prizes\, a sticker to track your progress\, and a penny to put in our jar for Bernie&rsquo\;s Book Bank. Program finishers will also receive their choice of a paperback book and other fun prizes. Receive a &ldquo\;charming&rdquo\; bonus prize if you are one of the first 100 kids to sign up on Saturday\, June 8th.<br />\nRegistration is not required.</span>
LOCATION:Lake Bluff Public Library 123 E. Scranton Avenue Lake Bluff\, IL 60044
UID:e.1126.17930
SEQUENCE:3
DTSTAMP:20260424T071611Z
URL:https://business.lflbchamber.com/events/details/children-s-summer-reading-club-begins-17930
END:VEVENT

END:VCALENDAR
