BEGIN:VCALENDAR
VERSION:2.0
PRODID:-//ChamberMaster//Event Calendar 2.0//EN
METHOD:PUBLISH
X-PUBLISHED-TTL:P3D
REFRESH-INTERVAL:P3D
CALSCALE:GREGORIAN
BEGIN:VEVENT
DTSTART:20190529T151500Z
DTEND:20190529T164500Z
X-MICROSOFT-CDO-ALLDAYEVENT:FALSE
SUMMARY:CIRCLES OF GOLD: HOW TO NETWORK FOR SUCCESS
DESCRIPTION:Presented by: Vickie Austin\, Speaker\, Author\, Business & Career Coach\n\nFor many people\, the word "networking" conjures up images of forced conversations\, dreary conferences or cold calls. They think of networking as drudgery\, glad-handing or a necessary evil so they avoid it to their peril. \n\n"Circles of Gold : How to Network for Career Success" is a presentation designed to give people in career transition simple\, actionable formulas to help with the search. The Circles of Gold approach begins with identifying\, then honoring the people you already know. By attending this presentation you'll discover how to:\n\n	First define\, then expand your network (you know way more people than you think) \n	Craft your message so people understand how they can help you\, capturing their imagination so they're eager to help you with your search\n	Create a "lather\, rinse\, repeat" campaign to sustain you on your job search while also having fun!\n\nVickie Austin is a business and career coach and owner of CHOICES Worldwide. She offers strategic planning to help people and companies get from where they are to where they want to be. Vickie is also a professional speaker\, sharing topics on business and career success with audiences around the world. She is the author of Circles of Gold: Honoring Your Network for Business and Career Success.
X-ALT-DESC;FMTTYPE=text/html:Presented by:&nbsp\;<span style="font-family:tahoma\,sans-serif"><span style="font-size:12.0pt">Vickie Austin\, Speaker\, Author\, Business &amp\; Career Coach</span><br />\nFor many people\, the word &quot\;networking&quot\; conjures up images of forced conversations\, dreary conferences or cold calls.&nbsp\;They think of networking as drudgery\, glad-handing or a necessary evil so they avoid it&mdash\;to their peril. </span><br />\n<span style="font-family:tahoma\,sans-serif">&ldquo\;Circles of Gold&reg\;: How to Network for Career Success&rdquo\; is a presentation designed to give people in career transition simple\, actionable formulas to help with the search. The Circles of Gold approach begins with identifying\, then honoring the people you already know. By attending this presentation you&rsquo\;ll discover how to:</span>\n<ul>\n	<li><span style="font-family:tahoma\,sans-serif"><span style="font-size:12.0pt">First define\, then expand your network (you know way more people than you think) </span></span></li>\n	<li><span style="font-family:tahoma\,sans-serif"><span style="font-size:12.0pt">Craft your message so people understand how they can help you\, capturing their imagination so they&rsquo\;re eager to help you with your search</span></span></li>\n	<li><span style="font-family:tahoma\,sans-serif"><span style="font-size:12.0pt">Create a &ldquo\;lather\, rinse\, repeat&rdquo\; campaign to sustain you on your job search while also having fun!</span></span></li>\n</ul>\n<span style="font-family:tahoma\,sans-serif">Vickie Austin is a business and career coach and owner of CHOICES Worldwide. She offers strategic planning to help people and companies get from where they are to where they want to be. Vickie is also a professional speaker\, sharing topics on business and career success with audiences around the world. She is the author of Circles of Gold: Honoring Your Network for Business and Career Success.</span><br />\n&nbsp\;
LOCATION:Career Resource Center Grove Cultural Campus 40 East Old Mill Road\, Suite 105 Lake Forest\, IL 60045
UID:e.1126.17849
SEQUENCE:3
DTSTAMP:20260424T085234Z
URL:https://business.lflbchamber.com/events/details/circles-of-gold-how-to-network-for-success-05-29-2019-17849
END:VEVENT

END:VCALENDAR
