BEGIN:VCALENDAR
VERSION:2.0
PRODID:-//ChamberMaster//Event Calendar 2.0//EN
METHOD:PUBLISH
X-PUBLISHED-TTL:P3D
REFRESH-INTERVAL:P3D
CALSCALE:GREGORIAN
BEGIN:VEVENT
DTSTART:20190425T003000Z
DTEND:20190526T200000Z
X-MICROSOFT-CDO-ALLDAYEVENT:FALSE
SUMMARY:Citadel Theatre presents Sentimental Journey: A Story of Love and War
DESCRIPTION:By: Ross Lehman Directed by: Mark Lococo When: Apr 26   May 26\, 2019 What: This is the story of Ross and Katey Lehman\, told by their son\, Chicago actor Ross (Robby) Lehman. It weaves the romantic history of their courtship\, marriage and life together\, set against the backdrop of WWII\, when he was an Air Force bombardier held prisoner by the Germans\, and she was a sophisticated career woman who waited for his return. This world premiere includes popular music of the period\, such as We'll Meet Again\, Don't Fence Me In\, and the title song Sentimental Journey. The perfect bookend to our season opener THE LITTLE FOXES\, this play will make you laugh and cry as you are taken on a sentimental journey back in time to a bygone era.
X-ALT-DESC;FMTTYPE=text/html:By: Ross Lehman Directed by: Mark Lococo When: Apr 26 &ndash\; May 26\, 2019 What: This is the story of Ross and Katey Lehman\, told by their son\, Chicago actor Ross (Robby) Lehman. It weaves the romantic history of their courtship\, marriage and life together\, set against the backdrop of WWII\, when he was an Air Force bombardier held prisoner by the Germans\, and she was a sophisticated career woman who waited for his return. This world premiere includes popular music of the period\, such as We&#39\;ll Meet Again\, Don&#39\;t Fence Me In\, and the title song Sentimental Journey. The perfect bookend to our season opener THE LITTLE FOXES\, this play will make you laugh and cry as you are taken on a sentimental journey back in time to a bygone era.
LOCATION:Citadel Theatre 300 Waukegan Road Lake Forest\, IL
UID:e.1126.17643
SEQUENCE:3
DTSTAMP:20260424T072945Z
URL:https://business.lflbchamber.com/events/details/citadel-theatre-presents-sentimental-journey-a-story-of-love-and-war-17643
END:VEVENT

END:VCALENDAR
