BEGIN:VCALENDAR
VERSION:2.0
PRODID:-//ChamberMaster//Event Calendar 2.0//EN
METHOD:PUBLISH
X-PUBLISHED-TTL:P3D
REFRESH-INTERVAL:P3D
CALSCALE:GREGORIAN
BEGIN:VEVENT
DTSTART:20190201T013000Z
DTEND:20190303T210000Z
X-MICROSOFT-CDO-ALLDAYEVENT:FALSE
SUMMARY:Citadel Theatre presents The Roommate
DESCRIPTION:By: Jen Silverman l Directed by: Beth Wolf When: February 1st thru March 3rd Where: 300S. Waukegan Road\, Lake Forest\, IL 60045 Run time: 90 minutes\, no intermission About: Sharon\, in her mid-fifties\, is recently divorced and needs a roommate to share her Iowa home. Robyn\, also in her mid-fifties\, needs a place to hide and a chance to start over. But as Sharon begins to uncover Robyn's secrets\, they encourage her own deep-seated desire to transform her life completely. A dark comedy about what it takes to re-route your life   and what happens when the wheels come off.
X-ALT-DESC;FMTTYPE=text/html:By: Jen Silverman l Directed by: Beth Wolf When: February 1st thru March 3rd Where: 300S. Waukegan Road\, Lake Forest\, IL 60045 Run time: 90 minutes\, no intermission About: Sharon\, in her mid-fifties\, is recently divorced and needs a roommate to share her Iowa home. Robyn\, also in her mid-fifties\, needs a place to hide and a chance to start over. But as Sharon begins to uncover Robyn&rsquo\;s secrets\, they encourage her own deep-seated desire to transform her life completely. A dark comedy about what it takes to re-route your life &ndash\; and what happens when the wheels come off.
LOCATION:300 S. Waukegan Road Lake Forest\, IL 60045
UID:e.1126.17549
SEQUENCE:3
DTSTAMP:20260424T100615Z
URL:https://business.lflbchamber.com/events/details/citadel-theatre-presents-the-roommate-17549
END:VEVENT

END:VCALENDAR
