BEGIN:VCALENDAR
VERSION:2.0
PRODID:-//ChamberMaster//Event Calendar 2.0//EN
METHOD:PUBLISH
X-PUBLISHED-TTL:P3D
REFRESH-INTERVAL:P3D
CALSCALE:GREGORIAN
BEGIN:VEVENT
DTSTART:20200911T130000Z
DTEND:20200911T140000Z
X-MICROSOFT-CDO-ALLDAYEVENT:FALSE
SUMMARY:COC B4Work
DESCRIPTION:Start your day with B4Work \n\nand a little virtual networking!\n\n \n\nGet together with both old and new business friends for an informative and topical presentation\, some lively conversation\, and opportunities to build your referral network.\n\nSensitive to continuing health protocols we're offering something for everyone -- with two B4Works each month\, for now we'll be offering the first one (2nd Friday of the month) via Zoom and the second (4th Fridays) in-person at LifeWorking Coworking. Join us!\n\n(Complimentary admission and guests are welcome -- RSVP for Zoom link.)
X-ALT-DESC;FMTTYPE=text/html:<h1 style="text-align: center\;"><br />\n<strong><em><span style="color: green\;"><span style="font-family: arial\, sans-serif\;">Start your day with B4Work&hellip\;</span></span></em></strong><br />\n<strong><em><span style="color: green\;"><span style="font-family: arial\, sans-serif\;">and a little virtual networking!</span></span></em></strong><br />\n&nbsp\;</h1>\n\n<h2 style="text-align: center\;"><span style="font-size:18px\;">Get together with both&nbsp\;old and new business friends for an informative and topical&nbsp\;presentation\,&nbsp\;some lively conversation\, and opportunities to build your referral network.</span></h2>\n\n<h2 style="text-align: center\;"><span style="font-size: 18px\;">Sensitive to continuing health protocols we&#39\;re offering something for everyone -- with two B4Works each month\, for now we&#39\;ll be offering the first one (2nd Friday&nbsp\;of the month)&nbsp\;via Zoom and the second (4th Fridays)&nbsp\;in-person at LifeWorking Coworking. Join us!</span></h2>\n\n<h2 style="text-align: center\;"><em><strong><span style="font-family: arial\, sans-serif\;"><span style="font-size: 12pt\;">(Complimentary admission and guests are welcome -- RSVP for Zoom link.)</span></span></strong></em></h2>\n
LOCATION:RSVP for Zoom link
UID:e.1126.19607
SEQUENCE:3
DTSTAMP:20260425T182819Z
URL:https://business.lflbchamber.com/events/details/coc-b4work-09-11-2020-19607
END:VEVENT

END:VCALENDAR
