BEGIN:VCALENDAR
VERSION:2.0
PRODID:-//ChamberMaster//Event Calendar 2.0//EN
METHOD:PUBLISH
X-PUBLISHED-TTL:P3D
REFRESH-INTERVAL:P3D
CALSCALE:GREGORIAN
BEGIN:VEVENT
DTSTART:20250501T220000Z
DTEND:20250501T233000Z
X-MICROSOFT-CDO-ALLDAYEVENT:FALSE
SUMMARY:COC BIZ & BREWS
DESCRIPTION:Unwind from your day and join us for some informal networking at\n\nBiz & Brews!\n\n\n\n5:00 - 6:30 pm\n\nLake Bluff Brewing Company\n\n16 E. Scranton Ave.\, Lake Bluff\n\n\n\nJoin us for some informal and fun networking at our monthly happy hour and meet-up event! We get together on the first Thursday of each month at a different local favorite -- refreshments and nibbles are provided.\n\n\n\nAll are welcome! (Chamber membership not required)
X-ALT-DESC;FMTTYPE=text/html:<div style="text-align: center\;"><span style="text-align: center\; color: rgb(0\, 128\, 0)\;"><span style="font-size: 24px\;"><span style="font-size: 22px\;"><font face="Arial\, Verdana\, Helvetica\, sans-serif"><em>Unwind from your day and join us for some informal networking at</em><br />\n<em><strong>Biz &amp\; Brews!</strong></em></font></span></span></span><br style="text-align: center\;" />\n<br style="text-align: center\;" />\n<span style="text-align: center\; font-size: 20px\;">5:00 - 6:30 pm<br />\n<span style="font-size:22px\;"><strong>Lake Bluff Brewing Company<br />\n16 E. Scranton Ave.\, Lake Bluff</strong></span></span><br />\n<br style="text-align: center\;" />\n<em style="text-align: center\;"><span style="font-size: 16px\;">Join us for some informal and fun networking at our monthly happy hour and meet-up event! We get together on the first Thursday of each month at a different local favorite -- refreshments and nibbles are provided.</span></em><br style="text-align: center\;" />\n<br style="text-align: center\;" />\n<strong style="text-align: center\;"><span style="font-size: 16px\;"><span style="font-family: arial\;"><em>All are welcome! (Chamber membership not required)</em></span></span></strong></div>\n
LOCATION:16 E. Scranton Avenue Lake Bluff
UID:e.1126.29550
SEQUENCE:3
DTSTAMP:20260424T053426Z
URL:https://business.lflbchamber.com/events/details/coc-biz-brews-05-01-2025-29550
END:VEVENT

END:VCALENDAR
