BEGIN:VCALENDAR
VERSION:2.0
PRODID:-//ChamberMaster//Event Calendar 2.0//EN
METHOD:PUBLISH
X-PUBLISHED-TTL:P3D
REFRESH-INTERVAL:P3D
CALSCALE:GREGORIAN
BEGIN:VEVENT
DTSTART:20220921T220000Z
DTEND:20220921T233000Z
X-MICROSOFT-CDO-ALLDAYEVENT:FALSE
SUMMARY:COC BUSINESS AFTER HOURS CO-HOSTED BY ELEMENTS MASSAGE & THE EXERCISE COACH
DESCRIPTION:Join the LF/LB and DBR Chambers for a special Business After Hours co-hosted by neighboring member businesses\, Elements Massage and the Exercise Coach -- all are welcome!! As always\, guests will enjoy lively conversation with old and new business friends and opportunities to build your referral network!\n\n \n\n \n\nBusiness After Hours co-hosted by Elements Massage and the Exercise Coach. \n\nWednesday\, September 21 | 5:00   6:30 pm \n\n2517 & 2519 Waukegan Road\, Bannockburn\n\n \n\nElements Massage has been located in the Bannockburn Green Shopping Center since 2012. Elements goal is to make therapeutic massage accessible to the community\, at a reasonable price\, with a clean environment and highly qualified Licensed Massage Therapists.\n\n \n\nThe Exercise Coach is a one-on-one personal strength training studio with computerized equipment that offers the most effective results in just 20 minutes twice a week. They have been in the Bannockburn Green Shopping Center for 10 years.  Please read their Google Reviews to see the great things clients are saying about them and their unique workouts.
X-ALT-DESC;FMTTYPE=text/html:<div style="text-align: center\;"><em><span style="color:#5e923d\;"><span style="font-family:arial\,sans-serif\;"><span style="font-size:20pt\;">Join the LF/LB and DBR Chambers for a special Business After Hours co-hosted by neighboring member businesses\, Elements Massage and the Exercise Coach -- all are welcome!! As always\, guests will enjoy lively conversation with old and new business friends and opportunities to build your referral network!</span></span></span></em><br />\n&nbsp\;<br />\n&nbsp\;<br />\n<span style="color:#5e923d\;"><span style="font-family:arial\,sans-serif\;"><span style="font-size:16pt\;">Business After Hours co-hosted by Elements Massage and the Exercise Coach.&nbsp\;</span></span></span><br />\n<strong><span style="font-family:arial\,sans-serif\;"><span style="font-size:12pt\;">Wednesday\, September 21 | 5:00 &ndash\; 6:30 pm&nbsp\;</span></span></strong><br />\n<span style="font-size:12pt\;">2517 &amp\; 2519 Waukegan Road\, Bannockburn</span><br />\n&nbsp\;<br />\n<span style="font-size:12pt\;">Elements Massage has been located in the Bannockburn Green Shopping Center since&nbsp\;2012. Elements goal is to make therapeutic&nbsp\;massage&nbsp\;accessible to the community\, at a reasonable price\, with a clean environment and highly qualified Licensed Massage Therapists.</span><br />\n&nbsp\;<br />\n<span style="font-size:12pt\;">The Exercise Coach is a one-on-one personal strength training studio with computerized equipment that offers the most effective results in just 20 minutes twice a week. They have been in the Bannockburn Green Shopping Center for 10 years.&nbsp\; Please read their Google Reviews to see the great things clients are saying about them and their unique workouts.</span></div>\n
LOCATION:
UID:e.1126.22330
SEQUENCE:3
DTSTAMP:20260421T002422Z
URL:https://business.lflbchamber.com/events/details/coc-business-after-hours-co-hosted-by-elements-massage-the-exercise-coach-22330
END:VEVENT

END:VCALENDAR
