BEGIN:VCALENDAR
VERSION:2.0
PRODID:-//ChamberMaster//Event Calendar 2.0//EN
METHOD:PUBLISH
X-PUBLISHED-TTL:P3D
REFRESH-INTERVAL:P3D
CALSCALE:GREGORIAN
BEGIN:VEVENT
DTSTART:20250312T220000Z
DTEND:20250313T000000Z
X-MICROSOFT-CDO-ALLDAYEVENT:FALSE
SUMMARY:COC Women's Connections: Three Chamber networking event!
DESCRIPTION:Celebrate and connect with dynamic women in area businesses at our exclusive Women's Co-Chamber Networking Event!\n\nJoin us on Wednesday\, March 12th\, at 5:00 PM at elliestyled for an evening of high-energy networking with members from the Lake Forest/Lake Bluff\, Highland Park\,  and Highwood Chambers of Commerce.\n\nThis empowering event is designed for women in business who are Chamber members\, offering a unique opportunity to expand your network\, share insights\, and build meaningful connections in a supportive and inspiring atmosphere.\n\nDon't miss this chance to engage with fellow women professionals and strengthen your local business network!
X-ALT-DESC;FMTTYPE=text/html:<p style="box-sizing: border-box\; margin: 0px 0px 1rem\; color: rgb(69\, 75\, 89)\; font-family: Roboto\, sans-serif\; font-size: 16px\;"><span style="box-sizing: border-box\;"><span style="box-sizing: border-box\; font-family: arial\;">Celebrate and connect with dynamic women in area businesses at our exclusive Women&#39\;s Co-Chamber Networking Event!</span></span></p>\n\n<p style="box-sizing: border-box\; margin: 0px 0px 1rem\; color: rgb(69\, 75\, 89)\; font-family: Roboto\, sans-serif\; font-size: 16px\;"><span style="box-sizing: border-box\;"><span style="box-sizing: border-box\; font-family: arial\;">Join us on&nbsp\;<span style="box-sizing: border-box\; font-weight: bolder\;">Wednesday\, March 12th\, at 5:00 PM</span>&nbsp\;at&nbsp\;<a href="https://business.chamberhp.com/list/member/atelier-by-elliestyled-6862" style="box-sizing: border-box\; background-color: transparent\; color: rgb(3\, 31\, 96)\; text-decoration-line: none\; overflow-wrap: break-word\;"><span style="box-sizing: border-box\; font-weight: bolder\;">elliestyled</span></a>&nbsp\;for an evening of high-energy networking with members from the&nbsp\;<span style="box-sizing: border-box\; font-weight: bolder\;"><a href="https://www.lflbchamber.com/" style="box-sizing: border-box\; background-color: transparent\; color: rgb(3\, 31\, 96)\; text-decoration-line: none\; overflow-wrap: break-word\;">Lake Forest/Lake Bluff</a>\,&nbsp\;</span></span></span><a href="http://www.chamberhp.com/" style="color: rgb(3\, 31\, 96)\; font-family: arial\; font-weight: 700\; background-color: transparent\; box-sizing: border-box\; text-decoration-line: none\; overflow-wrap: break-word\;">Highland Park</a><span style="font-family: arial\; font-weight: 700\;">\,&nbsp\;</span><span style="font-family: arial\; box-sizing: border-box\; font-weight: bolder\;">&nbsp\;and&nbsp\;<a href="https://www.highwoodchamber.com/" style="box-sizing: border-box\; background-color: transparent\; color: rgb(3\, 31\, 96)\; text-decoration-line: none\; overflow-wrap: break-word\;">Highwood</a>&nbsp\;Chambers of Commerce</span><span style="font-family: arial\;">.</span></p>\n\n<p style="box-sizing: border-box\; margin: 0px 0px 1rem\; color: rgb(69\, 75\, 89)\; font-family: Roboto\, sans-serif\; font-size: 16px\;"><span style="box-sizing: border-box\;"><span style="box-sizing: border-box\; font-family: arial\;">This empowering event is designed for&nbsp\;<span style="box-sizing: border-box\; font-weight: bolder\;">women in business who are Chamber members</span>\, offering a unique opportunity to expand your network\, share insights\, and build meaningful connections in a supportive and inspiring atmosphere.</span></span></p>\n\n<p style="box-sizing: border-box\; margin: 0px 0px 1rem\; color: rgb(69\, 75\, 89)\; font-family: Roboto\, sans-serif\; font-size: 16px\;"><em><strong><span style="box-sizing: border-box\;"><span style="box-sizing: border-box\; font-family: arial\;">Don&rsquo\;t miss this chance to engage with fellow women professionals and strengthen your local business network!</span></span></strong></em></p>\n
LOCATION:elliestyled 1900 Sheridan Rd Highland Park\, IL 60035
UID:e.1126.29681
SEQUENCE:3
DTSTAMP:20260424T010737Z
URL:https://business.lflbchamber.com/events/details/coc-women-s-connections-three-chamber-networking-event-29681
END:VEVENT

END:VCALENDAR
