BEGIN:VCALENDAR
VERSION:2.0
PRODID:-//ChamberMaster//Event Calendar 2.0//EN
METHOD:PUBLISH
X-PUBLISHED-TTL:P3D
REFRESH-INTERVAL:P3D
CALSCALE:GREGORIAN
BEGIN:VEVENT
DTSTART:20240611T150000Z
DTEND:20240611T170000Z
X-MICROSOFT-CDO-ALLDAYEVENT:FALSE
SUMMARY:Community Open House: Planning for the Future of Lake Bluff Library
DESCRIPTION:Stop by the Library to chat with architects\, ask questions\, and share preferences about the future of the Library. Sponsored in part by the Reaching Across Illinois Libraries System (RAILS) My Library Is Grant. Drop-in\, no advanced registration required.\n\n\n\nWe will have an additional Community Open House on Tuesday June 11th from 5-7pm\, as well as another one on Saturday June 15th from 10:30am-12:30pm.
X-ALT-DESC;FMTTYPE=text/html:<div><span style="font-family:arial\,helvetica\,sans-serif"><span style="font-size:11pt">Stop by the Library to chat with architects\, ask questions\, and share preferences about the future of the Library. Sponsored in part by the&nbsp\;Reaching Across Illinois Libraries System (RAILS) My Library Is Grant. Drop-in\, no advanced registration required.<br />\n<br />\nWe will have an additional Community Open House on Tuesday June 11th from 5-7pm\, as well as another one on Saturday June 15th from 10:30am-12:30pm.</span></span></div>\n
LOCATION:Lake Bluff Public Library 123 E. Scranton Ave. Lake Bluff\, IL. 60044
UID:e.1126.27109
SEQUENCE:3
DTSTAMP:20260424T011003Z
URL:https://business.lflbchamber.com/events/details/community-open-house-planning-for-the-future-of-lake-bluff-library-27109
END:VEVENT

END:VCALENDAR
