BEGIN:VCALENDAR
VERSION:2.0
PRODID:-//ChamberMaster//Event Calendar 2.0//EN
METHOD:PUBLISH
X-PUBLISHED-TTL:P3D
REFRESH-INTERVAL:P3D
CALSCALE:GREGORIAN
BEGIN:VEVENT
DTSTART:20220928T200000Z
DTEND:20220928T203000Z
X-MICROSOFT-CDO-ALLDAYEVENT:FALSE
SUMMARY:Compass Lake Forest Ribbon Cutting & Grand Opening Celebration
DESCRIPTION:Ribbon Cutting Celebration\n\nWednesday\, September 28 | 3:00 PM\n\nCompass Real Estate                                                                                                           \n\n280 E. Deerpath Road                                                                                                  \n\nLake Forest\n\n\n\nPlease join us for a ribbon cutting and grand opening celebration of the newly expanded and renovated Lake Forest office! \n\n\n\n Complimentary admission and guests are welcome. Kindly register in advance.
X-ALT-DESC;FMTTYPE=text/html:<div><strong><span style="color:#009900\;"><span style="font-family:arial\,sans-serif\;"><span style="font-size:20pt\;">Ribbon Cutting Celebration</span></span></span></strong><br />\n<strong><span style="font-family:arial\,sans-serif\;"><span style="font-size:16pt\;">Wednesday\, September 28&nbsp\;|&nbsp\;3:00 PM</span></span></strong><br />\n<strong><span style="font-weight:normal\;"><span style="font-family:arial\,sans-serif\;"><span style="font-size:12pt\;">Compass Real Estate&nbsp\;&nbsp\;&nbsp\;&nbsp\;&nbsp\;&nbsp\;&nbsp\;&nbsp\;&nbsp\;</span></span></span></strong>&nbsp\;&nbsp\;&nbsp\;&nbsp\;&nbsp\;&nbsp\;&nbsp\;&nbsp\;&nbsp\;&nbsp\;&nbsp\;&nbsp\;&nbsp\;&nbsp\;&nbsp\;&nbsp\;&nbsp\;&nbsp\;&nbsp\;&nbsp\;&nbsp\;&nbsp\;&nbsp\;&nbsp\;&nbsp\;&nbsp\;&nbsp\;&nbsp\;&nbsp\;&nbsp\;&nbsp\;&nbsp\;&nbsp\;&nbsp\;&nbsp\;&nbsp\;&nbsp\;&nbsp\;&nbsp\;&nbsp\;&nbsp\;&nbsp\;&nbsp\;&nbsp\;&nbsp\;&nbsp\;&nbsp\;&nbsp\;&nbsp\;&nbsp\;&nbsp\;&nbsp\;&nbsp\;&nbsp\;&nbsp\;&nbsp\;&nbsp\;&nbsp\;&nbsp\;&nbsp\;&nbsp\;&nbsp\;&nbsp\;&nbsp\;&nbsp\;&nbsp\;&nbsp\;&nbsp\;&nbsp\;&nbsp\;&nbsp\;&nbsp\;&nbsp\;&nbsp\;&nbsp\;&nbsp\;&nbsp\;&nbsp\;&nbsp\;&nbsp\;&nbsp\;&nbsp\;&nbsp\;&nbsp\;&nbsp\;&nbsp\;&nbsp\;&nbsp\;&nbsp\;&nbsp\;&nbsp\;&nbsp\;&nbsp\;&nbsp\;&nbsp\;&nbsp\;&nbsp\;<strong><span style="font-weight:normal\;"><span style="font-family:arial\,sans-serif\;"><span style="font-size:12pt\;">&nbsp\;<br />\n280 E. Deerpath Road</span></span></span></strong><strong><span style="font-family:arial\,sans-serif\;"><span style="font-size:12pt\;">&nbsp\;&nbsp\;&nbsp\;&nbsp\;&nbsp\;&nbsp\;&nbsp\;&nbsp\;&nbsp\;&nbsp\;&nbsp\;&nbsp\;&nbsp\;&nbsp\;&nbsp\;&nbsp\;&nbsp\;&nbsp\;&nbsp\;&nbsp\;&nbsp\;&nbsp\;&nbsp\;&nbsp\;&nbsp\;&nbsp\;&nbsp\;&nbsp\;&nbsp\;&nbsp\;&nbsp\;&nbsp\;&nbsp\;&nbsp\;&nbsp\;&nbsp\;&nbsp\;&nbsp\;&nbsp\;&nbsp\;&nbsp\;&nbsp\;&nbsp\;&nbsp\;&nbsp\;&nbsp\;&nbsp\;&nbsp\;&nbsp\;&nbsp\;&nbsp\;&nbsp\;&nbsp\;&nbsp\;&nbsp\;&nbsp\;&nbsp\;&nbsp\;&nbsp\;&nbsp\;&nbsp\;&nbsp\;&nbsp\;&nbsp\;&nbsp\;&nbsp\;&nbsp\;&nbsp\;&nbsp\;&nbsp\;&nbsp\;&nbsp\;&nbsp\;&nbsp\;&nbsp\;&nbsp\;&nbsp\;&nbsp\;&nbsp\;&nbsp\;&nbsp\;&nbsp\;&nbsp\;&nbsp\;&nbsp\;&nbsp\;&nbsp\;&nbsp\;&nbsp\;&nbsp\;&nbsp\;&nbsp\;&nbsp\;&nbsp\;&nbsp\;&nbsp\;&nbsp\;&nbsp\;<br />\nLake Forest</span></span></strong><br />\n<br />\n<span style="border:1pt none windowtext\;padding:0in\;"><span style="font-family:arial\,sans-serif\;"><span style="font-size:12pt\;">Please join us for a ribbon cutting and grand opening celebration of the newly expanded and renovated Lake Forest office!&nbsp\;</span></span></span><br />\n<br />\n&#65279\;<span style="border:1pt none windowtext\;padding:0in\;"><span style="font-family:arial\,sans-serif\;"><span style="font-size:12pt\;">Complimentary admission and guests are welcome. Kindly register in advance.</span></span></span></div>\n
LOCATION:280 E Deerpath\, Lake Forest
UID:e.1126.22611
SEQUENCE:3
DTSTAMP:20260426T040933Z
URL:https://business.lflbchamber.com/events/details/compass-lake-forest-ribbon-cutting-grand-opening-celebration-22611
END:VEVENT

END:VCALENDAR
