BEGIN:VCALENDAR
VERSION:2.0
PRODID:-//ChamberMaster//Event Calendar 2.0//EN
METHOD:PUBLISH
X-PUBLISHED-TTL:P3D
REFRESH-INTERVAL:P3D
CALSCALE:GREGORIAN
BEGIN:VEVENT
DTSTART:20250523T160000Z
DTEND:20250523T170000Z
X-MICROSOFT-CDO-ALLDAYEVENT:FALSE
SUMMARY:Costly Mistakes Sabotaging Your Business Growth
DESCRIPTION:Learn why your growth may be stalling\, spot hidden profit drains and explore smart AI tools driving real business momentum.
X-ALT-DESC;FMTTYPE=text/html:<!--StartFragment--><span data-olk-copy-source="MessageBody" style="margin: 0px\;">Learn why your growth may be stalling\, spot hidden profit drains and explore smart AI tools driving real business momentum.</span><!--EndFragment-->
LOCATION:Zoom
UID:e.1126.30735
SEQUENCE:3
DTSTAMP:20260424T023316Z
URL:https://business.lflbchamber.com/events/details/costly-mistakes-sabotaging-your-business-growth-30735
END:VEVENT

END:VCALENDAR
