BEGIN:VCALENDAR
VERSION:2.0
PRODID:-//ChamberMaster//Event Calendar 2.0//EN
METHOD:PUBLISH
X-PUBLISHED-TTL:P3D
REFRESH-INTERVAL:P3D
CALSCALE:GREGORIAN
BEGIN:VEVENT
DTSTART:20190610T150000Z
DTEND:20190610T160000Z
X-MICROSOFT-CDO-ALLDAYEVENT:FALSE
SUMMARY:Counting Conundrum Begins!
DESCRIPTION:Gaze into the enchanted glass to find the answer that you seek: how many unicorns and stars are in the jar? If Fortune favors you with a correct guess\, an enchanting grand prize could be yours!\n\nRegistration is not required.
X-ALT-DESC;FMTTYPE=text/html:<span style="color:rgb(0\, 0\, 0)\; font-family:arial\,sans-serif\; font-size:14.0085px">Gaze into the enchanted glass to find the answer that you seek: how many unicorns and stars are in the jar? If Fortune favors you with a correct guess\, an enchanting grand prize could be yours!<br />\nRegistration is not required.</span>
LOCATION:Lake Bluff Public Library 123 E. Scranton Ave. Lake Bluff\, IL 60044
UID:e.1126.17932
SEQUENCE:3
DTSTAMP:20260424T071251Z
URL:https://business.lflbchamber.com/events/details/counting-conundrum-begins-17932
END:VEVENT

END:VCALENDAR
