BEGIN:VCALENDAR
VERSION:2.0
PRODID:-//ChamberMaster//Event Calendar 2.0//EN
METHOD:PUBLISH
X-PUBLISHED-TTL:P3D
REFRESH-INTERVAL:P3D
CALSCALE:GREGORIAN
BEGIN:VEVENT
DTSTART:20210324T183000Z
DTEND:20210324T193000Z
X-MICROSOFT-CDO-ALLDAYEVENT:FALSE
SUMMARY:COVID-19 Vaccine Scams Interactive Zoom Workshop
DESCRIPTION:Learn very important information on what you can do to protect yourself from COVID-19 Vaccine Scams with the Illinois Senior Medicare Patrol and how you can report them as well. We empower Medicare beneficiaries\, caregivers\, and professionals to protect\, detect and report Medicare fraud. Please register in advance by clicking the link. Questions? Call Elderwerks at 847-462-0885.
X-ALT-DESC;FMTTYPE=text/html:Learn very important information on what you can do to protect yourself from COVID-19 Vaccine Scams with the Illinois Senior Medicare Patrol and how you can report them as well. We empower Medicare beneficiaries\, caregivers\, and professionals to protect\, detect and report Medicare fraud. Please register in advance by clicking the link. Questions? Call Elderwerks at 847-462-0885.
LOCATION:Zoom
UID:e.1126.19904
SEQUENCE:3
DTSTAMP:20260425T214451Z
URL:https://business.lflbchamber.com/events/details/covid-19-vaccine-scams-interactive-zoom-workshop-19904
END:VEVENT

END:VCALENDAR
