BEGIN:VCALENDAR
VERSION:2.0
PRODID:-//ChamberMaster//Event Calendar 2.0//EN
METHOD:PUBLISH
X-PUBLISHED-TTL:P3D
REFRESH-INTERVAL:P3D
CALSCALE:GREGORIAN
BEGIN:VEVENT
DTSTART:20240914T150000Z
DTEND:20240914T210000Z
X-MICROSOFT-CDO-ALLDAYEVENT:FALSE
SUMMARY:Crab Tree Farm Tour
DESCRIPTION:Lake Bluff History Museum will host its annual tour of Crab Tree Farm on Saturday\, September 14\, 2024\, at 10 am and 1 pm. Tickets will be available for purchase online starting in August. They tend to sell out quickly.\n\nWe will send an email announcement before we start selling tickets. Please send an email to adrienne@lakebluffhistory.org if you would like to be added to the list.
X-ALT-DESC;FMTTYPE=text/html:<p style="box-sizing: inherit\; margin-top: 0px\; margin-bottom: 1.5em\; color: rgb(138\, 137\, 137)\; font-family: vegurregular\, Arial\, sans-serif\; font-size: 13.6px\;"><span style="color:#000000\;">Lake Bluff History Museum will host its annual tour of Crab Tree Farm on Saturday\, September 14\, 2024\, at 10 am and 1 pm. Tickets will be available for purchase online starting in August. They tend to sell out quickly.</span></p>\n\n<p style="box-sizing: inherit\; margin-top: 0px\; margin-bottom: 1.5em\; color: rgb(138\, 137\, 137)\; font-family: vegurregular\, Arial\, sans-serif\; font-size: 13.6px\;"><span style="color:#000000\;">We will send an email announcement before we start selling tickets. Please send an email to adrienne@lakebluffhistory.org if you would like to be added to the list.</span></p>\n
LOCATION:
UID:e.1126.27527
SEQUENCE:3
DTSTAMP:20260423T194317Z
URL:https://business.lflbchamber.com/events/details/crab-tree-farm-tour-27527
END:VEVENT

END:VCALENDAR
