BEGIN:VCALENDAR
VERSION:2.0
PRODID:-//ChamberMaster//Event Calendar 2.0//EN
METHOD:PUBLISH
X-PUBLISHED-TTL:P3D
REFRESH-INTERVAL:P3D
CALSCALE:GREGORIAN
BEGIN:VEVENT
DTSTART:20190904T183000Z
DTEND:20190904T200000Z
X-MICROSOFT-CDO-ALLDAYEVENT:FALSE
SUMMARY:CRC From A to Z – Membership Orientation
DESCRIPTION:Presented by: Kelly Clark\, Director of Programs\, Career Resource Center\nNew members of CRC and those interested in learning more about the program are invited to join this session for a detailed explanation of services and resources available to job seekers at CRC. Knowing what services are available and the most efficient way to utilize them will help you land the job faster. Kelly will help you through the process and answer specific questions you may have.\n\nKelly currently serves as Career Resource Center's Director of Programs. Kelly began at Career Resource Center in 2009 and has held various roles in the organization since her start. She works closely with CRC Members to guide them through the program and ensure they are getting the help needed for each step of the search. Kelly holds a BS in Marketing from DePaul University.\n\n \n\nRegistration Required   Please call 847-295-5626
X-ALT-DESC;FMTTYPE=text/html:Presented by:&nbsp\;<span style="font-family:tahoma\,sans-serif\; font-size:12.0pt">Kelly Clark\, Director of Programs\, Career Resource Center</span>\n<p><span style="font-family:tahoma\,sans-serif">New members of CRC and those interested in learning more about the program are invited to join this session for a detailed explanation of services and resources available to job seekers at CRC. Knowing what services are available and the most efficient way to utilize them will help you land the job faster. Kelly will help you through the process and answer specific questions you may have.</span></p>\n\n<p><span style="font-family:tahoma\,sans-serif">Kelly currently serves as Career Resource Center&rsquo\;s Director of Programs. Kelly began at Career Resource Center in 2009 and has held various roles in the organization since her start. She works closely with CRC Members to guide them through the program and ensure they are getting the help needed for each step of the search. Kelly holds a BS in Marketing from DePaul University.</span></p>\n\n<p><span style="font-family:tahoma\,sans-serif">&nbsp\;</span></p>\n\n<p><span style="font-family:tahoma\,sans-serif">Registration Required &ndash\; Please call 847-295-5626</span></p>\n
LOCATION:Career Resource Center Grove Cultural Campus 40 E. Old Mill Road Lake Forest\, IL 60045
UID:e.1126.18185
SEQUENCE:3
DTSTAMP:20260424T025918Z
URL:https://business.lflbchamber.com/events/details/crc-from-a-to-z-membership-orientation-18185
END:VEVENT

END:VCALENDAR
