BEGIN:VCALENDAR
VERSION:2.0
PRODID:-//ChamberMaster//Event Calendar 2.0//EN
METHOD:PUBLISH
X-PUBLISHED-TTL:P3D
REFRESH-INTERVAL:P3D
CALSCALE:GREGORIAN
BEGIN:VEVENT
DTSTART:20190312T223000Z
DTEND:20190313T000000Z
X-MICROSOFT-CDO-ALLDAYEVENT:FALSE
SUMMARY:CRC IS GOING GREEN – ST. PADDY’S DAY NETWORKING!
DESCRIPTION:CRC invites you to a festive St. Paddy's Day networking session. Let the "Luck O' the Irish" rub off on you during this networking session and you may just find the pot of gold you were looking for! \nPlease join fellow members\, visitors\, volunteers and staff for good cheer. Have your business cards available to distribute and to use for the prize drawing.\n\nBring a guest\, and introduce CRC to others who want to learn about CRC. Refreshments will be served.\n\nFun Door Prizes\n\nA Drawing for CRC Visitors for half off of a new CRC Membership!\n\nThis is the perfect time to bring friends or family who are interested in learning more about CRC. Tours will be available.\n\nThis event is open to all - no fee.
X-ALT-DESC;FMTTYPE=text/html:<h1 style="text-align:left"><span style="font-family:tahoma\,sans-serif">CRC invites you to a festive St. Paddy&rsquo\;s&nbsp\;Day&nbsp\;networking session. Let the &ldquo\;Luck O&rsquo\; the Irish&rdquo\; rub off on you during this networking session and you may just find the pot of gold you were looking for!&nbsp\;</span></h1>\n<span style="font-family:tahoma\,sans-serif">Please join fellow members\, visitors\, volunteers and staff for good cheer. Have your business cards available to distribute and to use for the prize drawing.</span><br />\n<span style="font-family:tahoma\,sans-serif">Bring a guest\, and introduce CRC to others who want to learn about CRC. Refreshments will be served.</span><br />\n<span style="font-family:tahoma\,sans-serif">Fun Door Prizes</span><br />\n<span style="font-family:tahoma\,sans-serif">A Drawing for CRC Visitors for half off of a new CRC Membership!</span><br />\n<span style="font-family:tahoma\,sans-serif">This is the perfect time to bring friends or family who are interested in learning more about CRC. Tours will be available.</span><br />\n<strong><span style="font-family:tahoma\,sans-serif">This event is open to all - no fee.</span></strong>
LOCATION:Career Resource Center Grove Cultural Campus 40 E. Old Mill Road Lake Forest\, IL 60045
UID:e.1126.17606
SEQUENCE:3
DTSTAMP:20260424T113810Z
URL:https://business.lflbchamber.com/events/details/crc-is-going-green-st-paddy-s-day-networking-03-12-2019-17606
END:VEVENT

END:VCALENDAR
