BEGIN:VCALENDAR
VERSION:2.0
PRODID:-//ChamberMaster//Event Calendar 2.0//EN
METHOD:PUBLISH
X-PUBLISHED-TTL:P3D
REFRESH-INTERVAL:P3D
CALSCALE:GREGORIAN
BEGIN:VEVENT
DTSTART:20220923T000000Z
DTEND:20220923T010000Z
X-MICROSOFT-CDO-ALLDAYEVENT:FALSE
SUMMARY:Cuisine Quest: South and Central America
DESCRIPTION:Take a bite out of The Americas as we accompany Brian Michalski on his search for the most delectable dishes that Peru\, Argentina\, Brazil\, Nicaragua\, and other countries have to offer. Gain insight on local agriculture\, overlapping stylistic influences\, and how climate change is impacting food security. Michalski also shares recipes and endorsements of top-notch restaurants\, so that you can take your appetite on many satiating adventures to come.
X-ALT-DESC;FMTTYPE=text/html:<div>\n<p>Take a bite out of The Americas as we accompany Brian Michalski on his search for the most delectable dishes that Peru\, Argentina\, Brazil\, Nicaragua\, and other countries have to offer. Gain insight on local agriculture\, overlapping stylistic influences\, and how&nbsp\;climate change is impacting food security. Michalski also shares recipes and endorsements of top-notch restaurants\, so that you can take your appetite on many satiating adventures to come.</p>\n</div>\n
LOCATION:Lake Bluff Public Library 123 E. Scranton Ave. Lake Bluff\, IL. 60044
UID:e.1126.22509
SEQUENCE:3
DTSTAMP:20260425T032813Z
URL:https://business.lflbchamber.com/events/details/cuisine-quest-south-and-central-america-22509
END:VEVENT

END:VCALENDAR
