BEGIN:VCALENDAR
VERSION:2.0
PRODID:-//ChamberMaster//Event Calendar 2.0//EN
METHOD:PUBLISH
X-PUBLISHED-TTL:P3D
REFRESH-INTERVAL:P3D
CALSCALE:GREGORIAN
BEGIN:VEVENT
DTSTART:20240615T220000Z
DTEND:20240616T000000Z
X-MICROSOFT-CDO-ALLDAYEVENT:FALSE
SUMMARY:Daddy Daughter Pool Party
DESCRIPTION:Daddy Daughter Pool Party\n\nat Lake Bluff Pool\n\nEnjoy a big splash in the pool with your little mermaid! Music\, dancing\, dinner\, and pictures to remember! Swimming included. Ages: 3-11 years\, with Daddy. Fee: $60/$70 per couple\; $40/$50 additional daughter. CODE: 18424
X-ALT-DESC;FMTTYPE=text/html:Daddy Daughter Pool Party<br />\nat Lake Bluff Pool<br />\nEnjoy a big splash in the pool with your little mermaid! Music\, dancing\, dinner\, and pictures to remember! Swimming included. Ages: 3-11 years\, with Daddy. Fee: $60/$70 per couple\; $40/$50 additional daughter. CODE: 18424
LOCATION:
UID:e.1126.27521
SEQUENCE:3
DTSTAMP:20260424T010609Z
URL:https://business.lflbchamber.com/events/details/daddy-daughter-pool-party-27521
END:VEVENT

END:VCALENDAR
